BEGIN:VCALENDAR
VERSION:2.0
PRODID:-//FutureBeef - ECPv6.5.1.5//NONSGML v1.0//EN
CALSCALE:GREGORIAN
METHOD:PUBLISH
X-WR-CALNAME:FutureBeef
X-ORIGINAL-URL:https://futurebeef.com.au
X-WR-CALDESC:Events for FutureBeef
REFRESH-INTERVAL;VALUE=DURATION:PT1H
X-Robots-Tag:noindex
X-PUBLISHED-TTL:PT1H
BEGIN:VTIMEZONE
TZID:Australia/Brisbane
BEGIN:STANDARD
TZOFFSETFROM:+1000
TZOFFSETTO:+1000
TZNAME:AEST
DTSTART:20240101T000000
END:STANDARD
END:VTIMEZONE
BEGIN:VEVENT
DTSTART;VALUE=DATE:20240227
DTEND;VALUE=DATE:20240228
DTSTAMP:20260424T164949
CREATED:20240130T002652Z
LAST-MODIFIED:20240812T054923Z
UID:57686-1708992000-1709078399@futurebeef.com.au
SUMMARY:Property Management - Understanding Financial Systems - Lakeland
DESCRIPTION:Learn how to make successful financial management decisions in your grazing business with Cape York Natural Resource Management\, Bush Agribusiness and the TNQ Drought Hub.\n\n\n\nThis FREE WORKSHOP will help you learn:\n+ The difference between management accounts and compliance accounts\n+ Setting up\, or reviewing a financial system including software options\n+ Understanding the Chart of Accounts\n+ The importance of herd records and what the information can tell you about herd and overall business performance\n\n\n\nRSVP to Cape York Natural Resource Management on 4091 2273 by 23 February
URL:https://futurebeef.com.au/event/property-management-understanding-financial-systems-lakeland/
LOCATION:Lakeland Community Hall\, 4 Sesame St\, Lakeland\, Queensland\, Australia
CATEGORIES:Past event
ORGANIZER;CN="Cape York Natural Management":MAILTO:media@capeyorknrm.com.au
END:VEVENT
END:VCALENDAR