BEGIN:VCALENDAR
VERSION:2.0
PRODID:-//FutureBeef - ECPv6.5.1.5//NONSGML v1.0//EN
CALSCALE:GREGORIAN
METHOD:PUBLISH
X-ORIGINAL-URL:https://futurebeef.com.au
X-WR-CALDESC:Events for FutureBeef
REFRESH-INTERVAL;VALUE=DURATION:PT1H
X-Robots-Tag:noindex
X-PUBLISHED-TTL:PT1H
BEGIN:VTIMEZONE
TZID:Australia/Brisbane
BEGIN:STANDARD
TZOFFSETFROM:+1000
TZOFFSETTO:+1000
TZNAME:AEST
DTSTART:20240101T000000
END:STANDARD
END:VTIMEZONE
BEGIN:VEVENT
DTSTART;TZID=Australia/Brisbane:20240307T083000
DTEND;TZID=Australia/Brisbane:20240307T150000
DTSTAMP:20260424T153521
CREATED:20240205T042842Z
LAST-MODIFIED:20240812T055022Z
UID:57782-1709800200-1709823600@futurebeef.com.au
SUMMARY:Farm Business Resilience Workshop - Stanthorpe
DESCRIPTION:Come and discuss drought management ideas with fellow producers and learn about drought preparedness at this free workshop. \nAs part of Queensland’s drought reform\, Drought Preparedness Grants offer 25% (up to $50\,000) as a co-contribution grant to assist primary producers undertake on-farm capital improvements that will improve the drought preparedness of their property. To access these grants and other drought support measures including no and low interest loans\, producers will need to have a Farm Business Resilience Plan. To assist producers with this\, the Department of Agriculture and Fisheries Queensland (DAF)\, Rural Solutions Queensland Inc (RSQ) and Queensland Rural & Industry Development Authority (QRIDA) invite you to a workshop to learn more about the new policy\, how to apply and to discuss drought management ideas for adoption and funding.’ \nDon’t forget to register otherwise you may go without lunch! \n \nSee the event flyer here.
URL:https://futurebeef.com.au/event/farm-business-resilience-workshop-stanthorpe/
LOCATION:Stanthorpe RSL\, 46 Marsh St\, Stanthorpe\, QLD\, 4380\, Australia
CATEGORIES:Past event
END:VEVENT
END:VCALENDAR