BEGIN:VCALENDAR
VERSION:2.0
PRODID:-//FutureBeef - ECPv6.5.1.5//NONSGML v1.0//EN
CALSCALE:GREGORIAN
METHOD:PUBLISH
X-ORIGINAL-URL:https://futurebeef.com.au
X-WR-CALDESC:Events for FutureBeef
REFRESH-INTERVAL;VALUE=DURATION:PT1H
X-Robots-Tag:noindex
X-PUBLISHED-TTL:PT1H
BEGIN:VTIMEZONE
TZID:Australia/Brisbane
BEGIN:STANDARD
TZOFFSETFROM:+1000
TZOFFSETTO:+1000
TZNAME:AEST
DTSTART:20240101T000000
END:STANDARD
END:VTIMEZONE
BEGIN:VEVENT
DTSTART;TZID=Australia/Brisbane:20240311T090000
DTEND;TZID=Australia/Brisbane:20240311T140000
DTSTAMP:20260424T153519
CREATED:20240125T014936Z
LAST-MODIFIED:20240812T055044Z
UID:57658-1710147600-1710165600@futurebeef.com.au
SUMMARY:Grazing Business Resilience Workshop - Springsure
DESCRIPTION:How resilient is your business during tough times?\nJoin the Beef Extension team from the Department of Agriculture and\nFisheries to discuss current programs and assistance to help improve\nyour grazing business management through drought and tough times. \nTopics will include:\n• Developing a Farm Business Resilience Plan to apply for\ndrought assistance grants and loans\n• Grants and loans currently available through QRIDA\n• Rural Financial Counselling Service assistance\n• GRASS program and land condition improvement\n• Soil conservation fundamentals\n• DAF Pasture Resilience Program update \nJohn Day – DAF Soil Conservation Officer will be available to assist\nwith erosion and other soil related enquiries.\nMorning tea and lunch will be provided – Please advise of any dietary\nrequirements. \nBuilding Resilience in Grazing Workshops – CQ March 2024 \nYou can register for this workshop here.
URL:https://futurebeef.com.au/event/grazing-business-resilience-workshop-springsure/
LOCATION:Bauhinia Memorial Hall\, 31 Eclipse Street\, Springsure\, Qld\, 4722\, Australia
CATEGORIES:Past event
END:VEVENT
END:VCALENDAR