BEGIN:VCALENDAR
VERSION:2.0
PRODID:-//FutureBeef - ECPv6.5.1.5//NONSGML v1.0//EN
CALSCALE:GREGORIAN
METHOD:PUBLISH
X-WR-CALNAME:FutureBeef
X-ORIGINAL-URL:https://futurebeef.com.au
X-WR-CALDESC:Events for FutureBeef
REFRESH-INTERVAL;VALUE=DURATION:PT1H
X-Robots-Tag:noindex
X-PUBLISHED-TTL:PT1H
BEGIN:VTIMEZONE
TZID:Australia/Brisbane
BEGIN:STANDARD
TZOFFSETFROM:+1000
TZOFFSETTO:+1000
TZNAME:AEST
DTSTART:20240101T000000
END:STANDARD
END:VTIMEZONE
BEGIN:VEVENT
DTSTART;TZID=Australia/Brisbane:20240318T090000
DTEND;TZID=Australia/Brisbane:20240319T170000
DTSTAMP:20260424T165009
CREATED:20240104T002444Z
LAST-MODIFIED:20240812T054800Z
UID:57518-1710752400-1710867600@futurebeef.com.au
SUMMARY:Carbon EDGE pilot Alice Springs\, NT
DESCRIPTION:Carbon EDGE is a new training program for the red meat industry. Understand the opportunities for emissions reduction and carbon storage in your livestock grazing business. \nUse your own information to develop an action plan for your business. \nPresenters: Chris Wyhoon and John McLaughlin \n\n\nLocation: Alice Springs\, NT \nCost: $250pp ex GST – sponsored places for Carbon EDGE producer testers (register before 28 January 2024)\n$750pp ex GST – discounted rate for pilot workshops after 28 January 2024 \nAttending this workshop will help you learn: \n• key terminology and concepts relating to greenhouse gases (GHG) within the red meat industry\n• in-depth information on the practices to reduce and sequester GHG within a livestock grazing business\n• weighing up opportunities and risks associated with generating carbon credits and how they can be used to benefit livestock businesses\n• understanding carbon neutrality and how it aligns to your business goals\n• developing a carbon action plan that incorporates practical\, achievable strategies to meet your objectives. \nWorkshop inclusions \n• guidance of expert deliverers\n• individualised information and small group learning\n• practical activities\n• case studies\, data and examples for your region\n• a participant manual\, templates and other handy resources to take home. \nWho is the Carbon EDGE program for? \nThe program is for red meat producers who are looking to build on their understanding of carbon. The program aims to take participants from understanding to action planning. It is also suitable for advisors and other service providers. \nYou can register for this event here. \nCarbon EDGE Alice Springs Flyer.
URL:https://futurebeef.com.au/event/carbon-edge-pilot-alice-springs-nt/
LOCATION:Alice Springs\, Alice Springs\, NT\, 0870\, Australia
CATEGORIES:Past event
ORGANIZER;CN="MLA":MAILTO:events@mla.com.au
END:VEVENT
END:VCALENDAR