BEGIN:VCALENDAR
VERSION:2.0
PRODID:-//FutureBeef - ECPv6.5.1.5//NONSGML v1.0//EN
CALSCALE:GREGORIAN
METHOD:PUBLISH
X-WR-CALNAME:FutureBeef
X-ORIGINAL-URL:https://futurebeef.com.au
X-WR-CALDESC:Events for FutureBeef
REFRESH-INTERVAL;VALUE=DURATION:PT1H
X-Robots-Tag:noindex
X-PUBLISHED-TTL:PT1H
BEGIN:VTIMEZONE
TZID:Australia/Brisbane
BEGIN:STANDARD
TZOFFSETFROM:+1000
TZOFFSETTO:+1000
TZNAME:AEST
DTSTART:20240101T000000
END:STANDARD
END:VTIMEZONE
BEGIN:VEVENT
DTSTART;VALUE=DATE:20240611
DTEND;VALUE=DATE:20240614
DTSTAMP:20260423T071955
CREATED:20240130T232241Z
LAST-MODIFIED:20240812T053456Z
UID:57707-1718064000-1718323199@futurebeef.com.au
SUMMARY:RCS Grazing Clinic - Hughenden
DESCRIPTION:Are you ready to transform your grazing management? The RCS Grazing Clinics are your ticket to mastering integral skills that will lead to increased productivity\, data-driven decision-making\, and future proofing of your business. \nOur Grazing Clinics unearth the complex world of ‘time-controlled’ grazing management. You’ll graduate from this course feeling motivated and confident in being able to: \n\nMaster the 6 grazing management principles\nMatch your stocking rate to carrying capacity\nCalculate and assess graze and rest periods\nUse grazing charts as powerful decision-making tools\nDesign your property layout\, fencing and water\nImprove soil health\, microbiology\, and biodiversity\nIncrease your ground cover and water retention\nExplore opportunities to grow soil carbon levels\nManage livestock for greatest production\nAdapt to seasonal and climate variability\n\nInvestment \nEarly Bird: $1\,350 per person (available until 11th May 2024) \nStandard: $1\,650 per person \nDon’t forget to register to secure your spot!
URL:https://futurebeef.com.au/event/rcs-grazing-clinic-hughenden/
LOCATION:Western Australia
CATEGORIES:Past event
ORGANIZER;CN="RCS - Resource Consulting Services":MAILTO:info@rcsaustralia.com.au
END:VEVENT
BEGIN:VEVENT
DTSTART;TZID=Australia/Brisbane:20240612T090000
DTEND;TZID=Australia/Brisbane:20240612T160000
DTSTAMP:20260423T071955
CREATED:20240603T020408Z
LAST-MODIFIED:20240812T053346Z
UID:59244-1718182800-1718208000@futurebeef.com.au
SUMMARY:Building Grazing Resilience forum 2024
DESCRIPTION:Learn more about grazing resilience and sustainability! \nHealthy Land & Water presents the 2024 Building Grazing Resilience forum with funding from the Australian Government’s Future Drought Fund. \nSessions include: \n\nIndustry sustainability and resilience\nUnderstanding natural capital\nKey note presentations from industry experts\nCase studies from project participants\n\nPre event registration and coffee: 9 am \nTicket includes morning tea and lunch. More information is available on the Health Land & Water website.
URL:https://futurebeef.com.au/event/building-grazing-resilience-forum-2024/
LOCATION:Gatton Shire Hall\, 52 North Street\, Gatton\, Qld\, 4343\, Australia
CATEGORIES:Past event
END:VEVENT
END:VCALENDAR