BEGIN:VCALENDAR
VERSION:2.0
PRODID:-//FutureBeef - ECPv6.5.1.5//NONSGML v1.0//EN
CALSCALE:GREGORIAN
METHOD:PUBLISH
X-ORIGINAL-URL:https://futurebeef.com.au
X-WR-CALDESC:Events for FutureBeef
REFRESH-INTERVAL;VALUE=DURATION:PT1H
X-Robots-Tag:noindex
X-PUBLISHED-TTL:PT1H
BEGIN:VTIMEZONE
TZID:Australia/Brisbane
BEGIN:STANDARD
TZOFFSETFROM:+1000
TZOFFSETTO:+1000
TZNAME:AEST
DTSTART:20240101T000000
END:STANDARD
END:VTIMEZONE
BEGIN:VEVENT
DTSTART;TZID=Australia/Brisbane:20240916T080000
DTEND;TZID=Australia/Brisbane:20240916T170000
DTSTAMP:20260422T061950
CREATED:20240903T230247Z
LAST-MODIFIED:20241118T002543Z
UID:60566-1726473600-1726506000@futurebeef.com.au
SUMMARY:Rural First Aid Training - Boulia
DESCRIPTION:GroWQ is thrilled to present subsidised Rural First Aid training across Western Queensland. \nImpulse training will be running practical\, hands-on training specifically designed for primary producers. \nGrab your neighbours and support each other & learn lifesaving skills together. \n  \n8AM start to run for approx. 8 hours. \n$125 per person for first two attendees. \n$90 for additional participants from the same property\, property group or family (normally $302.50 per person). \nFFA – Multiple
URL:https://futurebeef.com.au/event/rural-first-aid-training-boulia/
LOCATION:Boulia\, Boulia\, Qld\, 4829\, Australia
CATEGORIES:Past event
END:VEVENT
END:VCALENDAR