BEGIN:VCALENDAR
VERSION:2.0
PRODID:-//FutureBeef - ECPv6.5.1.5//NONSGML v1.0//EN
CALSCALE:GREGORIAN
METHOD:PUBLISH
X-WR-CALNAME:FutureBeef
X-ORIGINAL-URL:https://futurebeef.com.au
X-WR-CALDESC:Events for FutureBeef
REFRESH-INTERVAL;VALUE=DURATION:PT1H
X-Robots-Tag:noindex
X-PUBLISHED-TTL:PT1H
BEGIN:VTIMEZONE
TZID:Australia/Brisbane
BEGIN:STANDARD
TZOFFSETFROM:+1000
TZOFFSETTO:+1000
TZNAME:AEST
DTSTART:20240101T000000
END:STANDARD
END:VTIMEZONE
BEGIN:VEVENT
DTSTART;TZID=Australia/Brisbane:20240923T123000
DTEND;TZID=Australia/Brisbane:20240923T140000
DTSTAMP:20260421T211522
CREATED:20240911T025444Z
LAST-MODIFIED:20241118T002605Z
UID:60738-1727094600-1727100000@futurebeef.com.au
SUMMARY:Exclusion Fencing Outcomes Workshop - Dirranbandi
DESCRIPTION:Wild dog exclusion fencing outcomes workshop with Andrew Perkins. \nMonday 23 September | Two locations \n\nDirranbandi Hotel | 12:30 – 2:30pm\nBollon Hotel – 4:00 – 6:00pm\n\nTuesday 24 September | Two locations \n\nThallon Francis Hotel | 12:30 – 2:30pm\nCulgoa Room St George | 4:00 – 6:00pm\n\nParticipants will receive an update on the outcomes of this program\, as well as an overview of the path forward. \nThis workshop will include guest speaker\, Gareth Forde\, Principal Engineer All Energy Pty Ltd – Balonne Shire opportunities in Renewable and Alternative energy including microgrids. \nRefreshments provided. \nFor more information contact Council on 4620 8888. \nTo view the event flyer click here
URL:https://futurebeef.com.au/event/exclusion-fencing-outcomes-workshop-dirranbandi/
LOCATION:Dirranbandi\, Dirranbandi\, 4486
CATEGORIES:Past event
END:VEVENT
BEGIN:VEVENT
DTSTART;TZID=Australia/Brisbane:20240923T160000
DTEND;TZID=Australia/Brisbane:20240923T180000
DTSTAMP:20260421T211522
CREATED:20240911T030853Z
LAST-MODIFIED:20241118T002611Z
UID:60752-1727107200-1727114400@futurebeef.com.au
SUMMARY:Exclusion Fencing Outcomes Workshop - Bollon
DESCRIPTION:Wild dog exclusion fencing outcomes workshop with Andrew Perkins. \nMonday 23 September | Two locations \n\nDirranbandi Hotel | 12:30 – 2:30pm\nBollon Hotel – 4:00 – 6:00pm\n\nTuesday 24 September | Two locations \n\nThallon Francis Hotel | 12:30 – 2:30pm\nCulgoa Room St George | 4:00 – 6:00pm\n\nParticipants will receive an update on the outcomes of this program\, as well as an overview of the path forward. \nThis workshop will include guest speaker\, Gareth Forde\, Principal Engineer All Energy Pty Ltd – Balonne Shire opportunities in Renewable and Alternative energy including microgrids. \nRefreshments provided. \nFor more information contact Council on 4620 8888. \nTo view the event flyer click here
URL:https://futurebeef.com.au/event/exclusion-fencing-outcomes-workshop-bollon/
LOCATION:Bollon\, Bollon\, Qld\, 4488\, Australia
CATEGORIES:Past event
END:VEVENT
END:VCALENDAR