BEGIN:VCALENDAR
VERSION:2.0
PRODID:-//FutureBeef - ECPv6.5.1.5//NONSGML v1.0//EN
CALSCALE:GREGORIAN
METHOD:PUBLISH
X-WR-CALNAME:FutureBeef
X-ORIGINAL-URL:https://futurebeef.com.au
X-WR-CALDESC:Events for FutureBeef
REFRESH-INTERVAL;VALUE=DURATION:PT1H
X-Robots-Tag:noindex
X-PUBLISHED-TTL:PT1H
BEGIN:VTIMEZONE
TZID:Australia/Brisbane
BEGIN:STANDARD
TZOFFSETFROM:+1000
TZOFFSETTO:+1000
TZNAME:AEST
DTSTART:20240101T000000
END:STANDARD
END:VTIMEZONE
BEGIN:VEVENT
DTSTART;TZID=Australia/Brisbane:20240926T120000
DTEND;TZID=Australia/Brisbane:20240926T130000
DTSTAMP:20260421T173039
CREATED:20240916T045453Z
LAST-MODIFIED:20241118T002642Z
UID:60891-1727352000-1727355600@futurebeef.com.au
SUMMARY:Regenerative agriculture — Foundations and first steps webinar
DESCRIPTION:Join Soil Wealth ICP for an introductory webinar on Regenerative Agriculture. Hosts will explore what it means\, how it contrasts with sustainability\, the principles and practices and provide a practical overview on implementing practices on your farm. \nLearn how adopting these practices can lead to healthier soils and a more resilient farming system. \nFollowing the webinar\, there will be a panel discussion with Andrew Johanson\, Mulgowie Farming Company and Declan McDonald\, ReGen Soils\, where we will explore personal experiences\, challenges and practical advice. \nIn this webinar\n\nContext and drivers: Understand the global and local factors driving the shift towards regenerative practices in horticulture\nSustainability vs. regeneration: Explore the key differences\nwhat is it?: A clear explanation of what RegenAg entails\nprinciples and practices: The importance of tailoring practices to your unique farming system\nbenefits and How to get started\n\nEvent details\nDate: Thursday 26 September 2024\nTime: 12:00 pm – 1:00 pm (AEST)\nLocation: Online via. Zoom\nRegistration: Click here to register \nFind out more about the presenters and panellists\, here.
URL:https://futurebeef.com.au/event/regenerative-agriculture-foundations-and-first-steps-webinar/
LOCATION:Online\, Australia
CATEGORIES:Past event
ORGANIZER;CN="Sophia Thach%2C Applied Horticulture Research":MAILTO:sophia.thach@ahr.com.au
END:VEVENT
END:VCALENDAR