BEGIN:VCALENDAR
VERSION:2.0
PRODID:-//FutureBeef - ECPv6.5.1.5//NONSGML v1.0//EN
CALSCALE:GREGORIAN
METHOD:PUBLISH
X-WR-CALNAME:FutureBeef
X-ORIGINAL-URL:https://futurebeef.com.au
X-WR-CALDESC:Events for FutureBeef
REFRESH-INTERVAL;VALUE=DURATION:PT1H
X-Robots-Tag:noindex
X-PUBLISHED-TTL:PT1H
BEGIN:VTIMEZONE
TZID:Australia/Brisbane
BEGIN:STANDARD
TZOFFSETFROM:+1000
TZOFFSETTO:+1000
TZNAME:AEST
DTSTART:20240101T000000
END:STANDARD
END:VTIMEZONE
BEGIN:VEVENT
DTSTART;TZID=Australia/Brisbane:20241001T083000
DTEND;TZID=Australia/Brisbane:20241003T170000
DTSTAMP:20260421T135124
CREATED:20240802T015931Z
LAST-MODIFIED:20241118T002713Z
UID:60180-1727771400-1727974800@futurebeef.com.au
SUMMARY:Nutrition EDGE - Winton
DESCRIPTION:Nutrition EDGE is a three-day workshop and practical session covering all aspects of animal nutrition.\n \n  \nNutrition EDGE is a three-day workshop and practical session covering all aspects of animal nutrition. Participants will be able to make better decisions to achieve their herd performance targets through improved breeder fertility\, weight gains\, reduced mortality\, optimal use of supplements and overall management. \nWinton\, QLD (plus paddock exercise) \n1-3 October 2024\, 8:30am-5:00pm \nWhat you will learn:\n• importance of nutrition                                           • digestion and nutrients\n• pasture intake\, quality and diet quality                • pasture growth\, intake and forage budgeting\n• mineral nutrition                                                      • diagnosing deficiencies\n• supplementation and other tools                          • supplement groups and reading labels\n• practical nutrition management                           • defining production targets \n  \nPrice \n\n$1\,950* + GST / 1st person from one business\n$1\,650* + GST / 2nd and 3rd person from the same business (primary producers only)\nCost includes comprehensive set of workshop notes and workbook as well as lunch\, morning/afternoon tea each day.\n\n*Early bird discount of $250 available if you register and pay for the workshop by 30 August. \nPlaces are limited. Register now for Nutrition EDGE.  \nTo register or for more information\, contact:\nDésirée Jackson – Désirée Jackson Livestock Management\nM: 0409 062 692 or E: desireejackson@djlm.com.au \nMore information can be found in this flyer. \n 
URL:https://futurebeef.com.au/event/nutrition-edge-winton/
LOCATION:Winton\, Winton\, Qld\, 4735\, Australia
CATEGORIES:Past event
ORGANIZER;CN="Desiree Jackson":MAILTO:desireejackson@djlm.com.au
END:VEVENT
BEGIN:VEVENT
DTSTART;VALUE=DATE:20241003
DTEND;VALUE=DATE:20241004
DTSTAMP:20260421T135124
CREATED:20240614T004503Z
LAST-MODIFIED:20241118T002732Z
UID:59449-1727913600-1727999999@futurebeef.com.au
SUMMARY:Rockhampton - The Regional Queensland Brain Reset Tour
DESCRIPTION:Allan Parker OAM is a micro behavioural neuroscientist\, whose first book\, Switch on your Brain has been a best seller since its publication in 1986. \nAllan is embarking on an extraordinary journey through the heart of regional Australia\, bringing insights\, skills\, and compassionate guidance to communities and individuals. \nAllan’s workshops delve into the neural pathways that govern our thoughts and behaviours\, offering tools for a Calming Brain Reset (CBR). \nYour brain is your most powerful asset\n\nBeing mentally fitter\, sharper\, and calmer.\nLearn how to listen to the brain and body you live in.\nLearn what you can do now\, to live longer with an intact and healthy brain.\nMaintain composure when there are bumps and holes in the road of life.\n\nWhat you will learn\nFive steps to a brain reset.\nReset your brain to have clearer thoughts\, less stress. \nManaging pressure and tension. \nHow to talk about pressure and lower it with five techniques for handling tension and emerging calmer on the other side. \nUnderstanding the brain.\nA deep dive into how our brain works and how to have a healthier one throughout your life. \nCalming conversations. \nHow to have calming conversations rather than reactive debates to produce a healthier brain and better understanding of others. \nThe facts and myths of brain food and exercise. \nExplore the impact of food and physical activities on brain health and memory. \nThe need for a brain reset\n\nKnowing how to improve our brain is crucial. It’s time to go beyond temporary fixes and initiate a lasting change.\nBy resetting your brain\, you’re not just improving your mental wellbeing; you’re enhancing your emotional and physical health too.\nImagine a life free from overwhelm\, stress\, anxiety and depression and increase peaceful sleep.\n\nThe Regional Queensland Brain Reset Tour information flyer (PDF\, 5MB) \nCost\n7-9AM Morning session: $71.50\n10AM-4PM Day session: $209.00\n5-7PM Twilight session: $71.50 \nRegister for this event here.
URL:https://futurebeef.com.au/event/rockhampton-the-regional-queensland-brain-reset-tour/
LOCATION:Rockhampton\, Rockhampton\, Qld\, 4700\, Australia
CATEGORIES:Past event
ORGANIZER;CN="Peak Performance":MAILTO:frontdesk@peakpd.com
END:VEVENT
BEGIN:VEVENT
DTSTART;TZID=Australia/Brisbane:20241003T080000
DTEND;TZID=Australia/Brisbane:20241003T170000
DTSTAMP:20260421T135124
CREATED:20240903T230825Z
LAST-MODIFIED:20241118T002724Z
UID:60568-1727942400-1727974800@futurebeef.com.au
SUMMARY:Rural First Aid Training - Yaraka School Building
DESCRIPTION:GroWQ is thrilled to present subsidised Rural First Aid training across Western Queensland. \nImpulse training will be running practical\, hands-on training specifically designed for primary producers. \nGrab your neighbours and support each other & learn lifesaving skills together. \n  \n8AM start to run for approx. 8 hours. \n$125 per person for first two attendees. \n$90 for additional participants from the same property\, property group or family (normally $302.50 per person). \nFFA – Multiple
URL:https://futurebeef.com.au/event/rural-first-aid-training-yaraka-school-building/
LOCATION:Yaraka School Building\, Yaraka\, QLD\, 4731\, Australia
CATEGORIES:Past event
END:VEVENT
BEGIN:VEVENT
DTSTART;TZID=Australia/Brisbane:20241003T100000
DTEND;TZID=Australia/Brisbane:20241004T153000
DTSTAMP:20260421T135124
CREATED:20240924T040244Z
LAST-MODIFIED:20241118T002754Z
UID:61000-1727949600-1728055800@futurebeef.com.au
SUMMARY:Embracing agriculture digital innovation workshop: Mareeba
DESCRIPTION:Enhance your knowledge and skills and increase your understanding of the benefits of agriculture digital technologies. \nThe two-day workshop will cover: \n\nCurrent digital opportunities and farm management technology\nCyber-security and how to identify common cyber-threats using interactive videos and case studies\nDifferent types of connectivity\, including their advantages and disadvantages\nInternet of Things (IoT) systems and devices\, including sensors and their functions\nThe use of drones\, their capabilities\, benefits and limitations on farms\, plus relevant legislative requirements\nGlobal positioning technology including GNSS\, GPS\, and GIS\nMethods of precision farming and control using satellite navigation and other technologies\nHow to manage data effectively and securely\nAutomation and technologies used to improve supply chain processes\nTechnologies and innovations that are transforming the agricultural industry.\n\nFor more information and to register visit TAFE Queensland’s Embracing agriculture digital innovation workshops website.
URL:https://futurebeef.com.au/event/embracing-agriculture-digital-innovation-workshop-mareeba/
LOCATION:Mareeba Leagues Club\, Doyle Street\, Mareeba\, Queensland\, 4880\, Australia
CATEGORIES:Past event
END:VEVENT
END:VCALENDAR