BEGIN:VCALENDAR
VERSION:2.0
PRODID:-//FutureBeef - ECPv6.5.1.5//NONSGML v1.0//EN
CALSCALE:GREGORIAN
METHOD:PUBLISH
X-ORIGINAL-URL:https://futurebeef.com.au
X-WR-CALDESC:Events for FutureBeef
REFRESH-INTERVAL;VALUE=DURATION:PT1H
X-Robots-Tag:noindex
X-PUBLISHED-TTL:PT1H
BEGIN:VTIMEZONE
TZID:Australia/Brisbane
BEGIN:STANDARD
TZOFFSETFROM:+1000
TZOFFSETTO:+1000
TZNAME:AEST
DTSTART:20240101T000000
END:STANDARD
END:VTIMEZONE
BEGIN:VEVENT
DTSTART;TZID=Australia/Brisbane:20241009T190000
DTEND;TZID=Australia/Brisbane:20241009T203000
DTSTAMP:20260423T184203
CREATED:20240925T001315Z
LAST-MODIFIED:20241118T002847Z
UID:61050-1728500400-1728505800@futurebeef.com.au
SUMMARY:Mineral supplementation for beef and sheep: What are the options for mineral supplements and how to best assess cost-effectiveness? — Online
DESCRIPTION:Tune in on 9 October to learn how to: \n\nDetermining why and what you need before purchasing products that are not fit for purpose.\nSaving money on supplements by determining when they are required\, what is required and what is the most economical way to supply this.\nFinding the best fit ‘supplement method’ for yourself and your property.\n\nYour presenter\nDeb Scammell is a livestock consultant at Talking Livestock\, she assists producers with nutrition and production planning in their sheep and beef enterprises. She consults directly to farmers and runs industry courses and projects. Deb is based in the Clare Valley. \nPrior to starting her own business\, Talking Livestock\, Deb worked in the commercial nutrition space in several different roles covering technical\, sales and national management. Deb has also been involved with sheep genetic programs and DNA\, EID technology and extension and sheep research. \nDeb graduated from Adelaide University with a Bachelor of Agricultural science with honours in Animal science and has studied ruminant nutrition post-graduation.
URL:https://futurebeef.com.au/event/mineral-supplementation-for-beef-and-sheep-what-are-the-options-for-mineral-supplements-and-how-to-best-assess-cost-effectiveness-online/
LOCATION:Online\, Australia
CATEGORIES:Past event
END:VEVENT
END:VCALENDAR