BEGIN:VCALENDAR
VERSION:2.0
PRODID:-//FutureBeef - ECPv6.5.1.5//NONSGML v1.0//EN
CALSCALE:GREGORIAN
METHOD:PUBLISH
X-ORIGINAL-URL:https://futurebeef.com.au
X-WR-CALDESC:Events for FutureBeef
REFRESH-INTERVAL;VALUE=DURATION:PT1H
X-Robots-Tag:noindex
X-PUBLISHED-TTL:PT1H
BEGIN:VTIMEZONE
TZID:Australia/Brisbane
BEGIN:STANDARD
TZOFFSETFROM:+1000
TZOFFSETTO:+1000
TZNAME:AEST
DTSTART:20240101T000000
END:STANDARD
END:VTIMEZONE
BEGIN:VEVENT
DTSTART;VALUE=DATE:20241010
DTEND;VALUE=DATE:20241011
DTSTAMP:20260421T195817
CREATED:20240912T020806Z
LAST-MODIFIED:20241118T002859Z
UID:60795-1728518400-1728604799@futurebeef.com.au
SUMMARY:MLA Updates- Perth
DESCRIPTION:Following the success of previous MLA Updates events in Toowoomba in 2022 and Bendigo 2023\, Perth promises to be an exciting day for red meat producers to be updated on MLA’s investments in research\, development and marketing. \nMLA Updates will feature presentations\, displays and demonstrations for producers and the broader industry along the red meat supply chain. It will also feature a range of showcases and livestock practical demonstrations. \nKey industry and government figures will also be invited to participate in the showcase and will provide information to participants on the wide range of services available to industry stakeholders. \nWHEN: October 10\, 2024 \nWHERE: Claremont Showgrounds\, Perth \nREGISTER HERE \n \n 
URL:https://futurebeef.com.au/event/mla-updates-perth/
LOCATION:Claremont Showgrounds\, 1 Graylands road\, Claremont\, WA\, 6010\, Australia
CATEGORIES:Past event
ORGANIZER;CN="MLA":MAILTO:events@mla.com.au
END:VEVENT
END:VCALENDAR