BEGIN:VCALENDAR
VERSION:2.0
PRODID:-//FutureBeef - ECPv6.5.1.5//NONSGML v1.0//EN
CALSCALE:GREGORIAN
METHOD:PUBLISH
X-WR-CALNAME:FutureBeef
X-ORIGINAL-URL:https://futurebeef.com.au
X-WR-CALDESC:Events for FutureBeef
REFRESH-INTERVAL;VALUE=DURATION:PT1H
X-Robots-Tag:noindex
X-PUBLISHED-TTL:PT1H
BEGIN:VTIMEZONE
TZID:Australia/Brisbane
BEGIN:STANDARD
TZOFFSETFROM:+1000
TZOFFSETTO:+1000
TZNAME:AEST
DTSTART:20240101T000000
END:STANDARD
END:VTIMEZONE
BEGIN:VEVENT
DTSTART;VALUE=DATE:20241015
DTEND;VALUE=DATE:20241016
DTSTAMP:20260422T010752
CREATED:20241001T011916Z
LAST-MODIFIED:20241118T002919Z
UID:61154-1728950400-1729036799@futurebeef.com.au
SUMMARY:International Day of Rural Women 2024
DESCRIPTION:International Day of Rural Women is a chance to celebrate all our amazing rural women in Australia and around the world! \nThe theme for this years the International Day of Rural Women is “Rural Women Cultivating Good Food for All”\, highlighting the essential role that rural women and girls play in the food systems of the world. \nFor more information visit the International Day of Rural Women website and keep an eye out for events near you by visiting the Rural Women’s Day website. \nCheck out how the Livestock Industries team based at Katherine Research Station in the Northern Territory is breaking down gender stereotypes with an all-female team in this FutureBeef eBulletin article.
URL:https://futurebeef.com.au/event/international-day-of-rural-women-2024/
LOCATION:Western Australia
CATEGORIES:Past event
END:VEVENT
BEGIN:VEVENT
DTSTART;TZID=Australia/Brisbane:20241015T083000
DTEND;TZID=Australia/Brisbane:20241015T163000
DTSTAMP:20260422T010752
CREATED:20240924T044733Z
LAST-MODIFIED:20241118T002923Z
UID:61031-1728981000-1729009800@futurebeef.com.au
SUMMARY:Grazing Fundamentals EDGE- Alpha
DESCRIPTION:Join Dionne Walsh (Range IQ) and Jane Ticknell (QDAF) for a one day Grazing Fundamentals EDGE workshop \nWHERE: Alpha\, QLD \nWHEN: 15 October 2024 (8:30am- 4:30pm) \nCOST: $850 + GST per person \n(includes comprehensive set of Workshop Notes and Workbook as well as lunch\, morning/afternoon tea) \nAttending this workshop will help you better understand:\n• The soils and plants in your area\n• Connections between land condition\, pasture growth and animal production\n• The importance of ground cover and soil moisture\n• How to allow for climate variability when planning and how to forage budget\n• The different grazing systems available. \nREGISTER NOW: Contact Jane Ticknell\, QDAF- 0427 877 271\, jane.ticknell@daf.qld.gov.au \nOR REGISTER HERE \nFOR MORE INFORMATION\, VIEW THE EVENT FLYER HERE
URL:https://futurebeef.com.au/event/grazing-fundamentals-edge-alpha/
LOCATION:Alpha\, Alpha\, Queensland\, 4724\, Australia
CATEGORIES:Past event
ORGANIZER;CN="Jane Tincknell":MAILTO:jane.tincknell@daf.qld.gov.au
END:VEVENT
BEGIN:VEVENT
DTSTART;TZID=Australia/Brisbane:20241015T090000
DTEND;TZID=Australia/Brisbane:20241015T130000
DTSTAMP:20260422T010752
CREATED:20240913T010218Z
LAST-MODIFIED:20241118T002929Z
UID:60819-1728982800-1728997200@futurebeef.com.au
SUMMARY:Pasture dieback information day - 'Nalpa Downs' Mitchell
DESCRIPTION:Hosted by Grant and Jane Maudsley\nWorkshop topics include:\n• Identification of pasture dieback\n• The cause of Pasture dieback\n• Management options for affected pasture\n• Paddock walk\n• Forage budgeting & pasture monitoring sites \nSmoko + lunch supplied \nJoin DAF’s pasture dieback team: \nStuart Buck is a senior pasture agronomist with extensive experience in grain cropping\, sown pastures\, legume establishment and is currently leading DAF’s pasture dieback research. \nKylie Hopkins is a beef extension officer with a broad knowledge of grazing land management\, pasture and forage production systems and has been part of DAF’s pasture dieback research and extension for over 5 years. \nTed Callanan is a pasture agronomist based in Toowoomba with 30 years of experience in rangeland\, agricultural and environmental management. \nThis work is delivered through the Queensland Pasture Resilience Program\, a partnership between DAF\, MLA and the Australian Government through the MLA Donor Company. \n\n\nDate\nTuesday 15 October 2024 9:00 AM – 1:00 PM (UTC+10) \n\n\nLocation\n\n\nNalpa Downs\n1548 Nalpa Downs Road\, Mitchell QLD 4465
URL:https://futurebeef.com.au/event/pasture-dieback-management-workshop-nalpa-downs-mitchell/
LOCATION:Nalpa Downs\, 1548 Nalpa Downs Road\, Mitchell\, QLD\, 4465\, Australia
CATEGORIES:Past event
ORGANIZER;CN="Bec Brayley":MAILTO:bec.brayley@daf.qld.gov.au
END:VEVENT
END:VCALENDAR