BEGIN:VCALENDAR
VERSION:2.0
PRODID:-//FutureBeef - ECPv6.5.1.5//NONSGML v1.0//EN
CALSCALE:GREGORIAN
METHOD:PUBLISH
X-ORIGINAL-URL:https://futurebeef.com.au
X-WR-CALDESC:Events for FutureBeef
REFRESH-INTERVAL;VALUE=DURATION:PT1H
X-Robots-Tag:noindex
X-PUBLISHED-TTL:PT1H
BEGIN:VTIMEZONE
TZID:Australia/Brisbane
BEGIN:STANDARD
TZOFFSETFROM:+1000
TZOFFSETTO:+1000
TZNAME:AEST
DTSTART:20240101T000000
END:STANDARD
END:VTIMEZONE
BEGIN:VEVENT
DTSTART;VALUE=DATE:20241016
DTEND;VALUE=DATE:20241017
DTSTAMP:20260422T193833
CREATED:20240614T005934Z
LAST-MODIFIED:20241118T003025Z
UID:59491-1729036800-1729123199@futurebeef.com.au
SUMMARY:Mt Isa - The Regional Queensland Brain Reset Tour
DESCRIPTION:Allan Parker OAM is a micro behavioural neuroscientist\, whose first book\, Switch on your Brain has been a best seller since its publication in 1986. \nAllan is embarking on an extraordinary journey through the heart of regional Australia\, bringing insights\, skills\, and compassionate guidance to communities and individuals. \nAllan’s workshops delve into the neural pathways that govern our thoughts and behaviours\, offering tools for a Calming Brain Reset (CBR). \nYour brain is your most powerful asset\n\nBeing mentally fitter\, sharper\, and calmer.\nLearn how to listen to the brain and body you live in.\nLearn what you can do now\, to live longer with an intact and healthy brain.\nMaintain composure when there are bumps and holes in the road of life.\n\nWhat you will learn\nFive steps to a brain reset.\nReset your brain to have clearer thoughts\, less stress. \nManaging pressure and tension. \nHow to talk about pressure and lower it with five techniques for handling tension and emerging calmer on the other side. \nUnderstanding the brain.\nA deep dive into how our brain works and how to have a healthier one throughout your life. \nCalming conversations. \nHow to have calming conversations rather than reactive debates to produce a healthier brain and better understanding of others. \nThe facts and myths of brain food and exercise. \nExplore the impact of food and physical activities on brain health and memory. \nThe need for a brain reset\n\nKnowing how to improve our brain is crucial. It’s time to go beyond temporary fixes and initiate a lasting change.\nBy resetting your brain\, you’re not just improving your mental wellbeing; you’re enhancing your emotional and physical health too.\nImagine a life free from overwhelm\, stress\, anxiety and depression and increase peaceful sleep.\n\nThe Regional Queensland Brain Reset Tour information flyer (PDF\, 5MB) \nCost\n7-9AM Morning session: $71.50\n10AM-4PM Day session: $209.00\n5-7PM Twilight session: $71.50 \nRegister for this event here.
URL:https://futurebeef.com.au/event/mt-isa-the-regional-queensland-brain-reset-tour/
LOCATION:Mt Isa\, Mt Isa\, Qld\, 4825\, Australia
CATEGORIES:Past event
ORGANIZER;CN="Peak Performance":MAILTO:frontdesk@peakpd.com
END:VEVENT
BEGIN:VEVENT
DTSTART;TZID=Australia/Brisbane:20241016T090000
DTEND;TZID=Australia/Brisbane:20241016T130000
DTSTAMP:20260422T193833
CREATED:20240913T010604Z
LAST-MODIFIED:20241118T003031Z
UID:60823-1729069200-1729083600@futurebeef.com.au
SUMMARY:Pasture dieback information day - 'Ellangowan' Augathella
DESCRIPTION:Hosted by Bec Cornes & Alastair Falk\nWorkshop topics include:\n• Identification of pasture dieback\n• The cause of Pasture dieback\n• Management options for affected pasture\n• Paddock walk\n• Forage budgeting & pasture monitoring sites \nSmoko + lunch supplied \nJoin DAF’s pasture dieback team: \nStuart Buck is a senior pasture agronomist with extensive experience in grain cropping\, sown pastures\, legume establishment and is currently leading DAF’s pasture dieback research. \nKylie Hopkins is a beef extension officer with a broad knowledge of grazing land management\, pasture and forage production systems and has been part of DAF’s pasture dieback research and extension for over 5 years. \nTed Callanan is a pasture agronomist based in Toowoomba with 30 years of experience in rangeland\, agricultural and environmental management. \nThis work is delivered through the Queensland Pasture Resilience Program\, a partnership between DAF\, MLA and the Australian Government through the MLA Donor Company. \n\n\nDate\nWednesday 16 October 2024 9:00 AM – 1:00 PM \n\n\nLocation\n\n\nEllangowan\nBiddenham Road\, Augathella QLD 4477
URL:https://futurebeef.com.au/event/pasture-dieback-management-workshop-ellangowan-augathella/
LOCATION:Ellangowan\, Biddenham Road\, Augathella\, QLD\, 4477\, Australia
CATEGORIES:Past event
ORGANIZER;CN="Bec Brayley":MAILTO:bec.brayley@daf.qld.gov.au
END:VEVENT
BEGIN:VEVENT
DTSTART;TZID=Australia/Brisbane:20241016T190000
DTEND;TZID=Australia/Brisbane:20241016T200000
DTSTAMP:20260422T193833
CREATED:20240911T044832Z
LAST-MODIFIED:20241118T003043Z
UID:60764-1729105200-1729108800@futurebeef.com.au
SUMMARY:Getting started with BREEDPLAN — Online workshop
DESCRIPTION:Conducted by the ABRI Extension Services team\, the Getting Started with BREEDPLAN workshops are designed for beef breeders who are new to performance recording with BREEDPLAN. These online workshops will run for approximately one hour\, and are offered free of charge. \nTopics covered include: \n\nwhat are BREEDPLAN EBVs\nperformance recording\ndata submission\nuse of DNA information\nBREEDPLAN reporting\nwhere to access assistance\nlive demonstration of the online web services area.\n\nPlease note: If the workshops are sold out\, please join the waitlist so that we can notify you when additional sessions are available for booking. Additional workshops will be added to meet the demand. \n \nEvent organiser\nCall Catriona Millen on 02 6773 3357. \nOther dates for the Getting started with BREEDPLAN online workshops: \n\nMonday 21 October 12:30pm\nTuesday 12 November 12:30pm\nThursday 14 November 7pm
URL:https://futurebeef.com.au/event/getting-started-with-breedplan-online-workshop-3/
LOCATION:Online\, Australia
CATEGORIES:Past event
ORGANIZER;CN="Catriona Millen":MAILTO:catriona@sbts.une.edu.au
END:VEVENT
END:VCALENDAR