BEGIN:VCALENDAR
VERSION:2.0
PRODID:-//FutureBeef - ECPv6.5.1.5//NONSGML v1.0//EN
CALSCALE:GREGORIAN
METHOD:PUBLISH
X-ORIGINAL-URL:https://futurebeef.com.au
X-WR-CALDESC:Events for FutureBeef
REFRESH-INTERVAL;VALUE=DURATION:PT1H
X-Robots-Tag:noindex
X-PUBLISHED-TTL:PT1H
BEGIN:VTIMEZONE
TZID:Australia/Brisbane
BEGIN:STANDARD
TZOFFSETFROM:+1000
TZOFFSETTO:+1000
TZNAME:AEST
DTSTART:20240101T000000
END:STANDARD
END:VTIMEZONE
BEGIN:VEVENT
DTSTART;TZID=Australia/Brisbane:20241022T090000
DTEND;TZID=Australia/Brisbane:20241022T163000
DTSTAMP:20260420T135417
CREATED:20240915T234530Z
LAST-MODIFIED:20241118T003412Z
UID:60863-1729587600-1729614600@futurebeef.com.au
SUMMARY:Property management: Understanding financial systems — Cloncurry
DESCRIPTION:Don’t miss this opportunity!\nDo you know how to make successful financial management decisions in your grazing business? \nSouthern Gulf NRM present the free Property management: understanding financial systems workshop. \nUnlock the keys to financial success in your grazing business on 22 October in Cloncurry. The workshop covers everything from sustainable beef practices to assessing business performance. \nLimited places are available\nContact Clarissa Felderhof on 0475 675 876 to secure your place.
URL:https://futurebeef.com.au/event/property-management-understanding-financial-systems-cloncurry/
LOCATION:Cloncurry Community Precinct\, 38-46 Daintree Street\, Cloncurry\, Qld\, 4824\, Australia
CATEGORIES:Past event
ORGANIZER;CN="Clarissa Felderhof%2C SGNRM":MAILTO:clarissa.felderhof@southerngulf.com.au
END:VEVENT
BEGIN:VEVENT
DTSTART;TZID=Australia/Brisbane:20241022T100000
DTEND;TZID=Australia/Brisbane:20241023T153000
DTSTAMP:20260420T135417
CREATED:20240924T040345Z
LAST-MODIFIED:20241118T003418Z
UID:61006-1729591200-1729697400@futurebeef.com.au
SUMMARY:Embracing agriculture digital innovation workshop: Emerald
DESCRIPTION:Enhance your knowledge and skills and increase your understanding of the benefits of agriculture digital technologies. \nThe two-day workshop will cover: \n\nCurrent digital opportunities and farm management technology\nCyber-security and how to identify common cyber-threats using interactive videos and case studies\nDifferent types of connectivity\, including their advantages and disadvantages\nInternet of Things (IoT) systems and devices\, including sensors and their functions\nThe use of drones\, their capabilities\, benefits and limitations on farms\, plus relevant legislative requirements\nGlobal positioning technology including GNSS\, GPS\, and GIS\nMethods of precision farming and control using satellite navigation and other technologies\nHow to manage data effectively and securely\nAutomation and technologies used to improve supply chain processes\nTechnologies and innovations that are transforming the agricultural industry.\n\nFor more information and to register visit TAFE Queensland’s Embracing agriculture digital innovation workshops website.
URL:https://futurebeef.com.au/event/embracing-agriculture-digital-innovation-workshop-emerald/
CATEGORIES:Past event
END:VEVENT
END:VCALENDAR