BEGIN:VCALENDAR
VERSION:2.0
PRODID:-//FutureBeef - ECPv6.5.1.5//NONSGML v1.0//EN
CALSCALE:GREGORIAN
METHOD:PUBLISH
X-ORIGINAL-URL:https://futurebeef.com.au
X-WR-CALDESC:Events for FutureBeef
REFRESH-INTERVAL;VALUE=DURATION:PT1H
X-Robots-Tag:noindex
X-PUBLISHED-TTL:PT1H
BEGIN:VTIMEZONE
TZID:Australia/Brisbane
BEGIN:STANDARD
TZOFFSETFROM:+1000
TZOFFSETTO:+1000
TZNAME:AEST
DTSTART:20240101T000000
END:STANDARD
END:VTIMEZONE
BEGIN:VEVENT
DTSTART;TZID=Australia/Brisbane:20241022T100000
DTEND;TZID=Australia/Brisbane:20241023T153000
DTSTAMP:20260420T121544
CREATED:20240924T040345Z
LAST-MODIFIED:20241118T003418Z
UID:61006-1729591200-1729697400@futurebeef.com.au
SUMMARY:Embracing agriculture digital innovation workshop: Emerald
DESCRIPTION:Enhance your knowledge and skills and increase your understanding of the benefits of agriculture digital technologies. \nThe two-day workshop will cover: \n\nCurrent digital opportunities and farm management technology\nCyber-security and how to identify common cyber-threats using interactive videos and case studies\nDifferent types of connectivity\, including their advantages and disadvantages\nInternet of Things (IoT) systems and devices\, including sensors and their functions\nThe use of drones\, their capabilities\, benefits and limitations on farms\, plus relevant legislative requirements\nGlobal positioning technology including GNSS\, GPS\, and GIS\nMethods of precision farming and control using satellite navigation and other technologies\nHow to manage data effectively and securely\nAutomation and technologies used to improve supply chain processes\nTechnologies and innovations that are transforming the agricultural industry.\n\nFor more information and to register visit TAFE Queensland’s Embracing agriculture digital innovation workshops website.
URL:https://futurebeef.com.au/event/embracing-agriculture-digital-innovation-workshop-emerald/
CATEGORIES:Past event
END:VEVENT
BEGIN:VEVENT
DTSTART;VALUE=DATE:20241023
DTEND;VALUE=DATE:20241025
DTSTAMP:20260420T121544
CREATED:20240925T002744Z
LAST-MODIFIED:20241118T003425Z
UID:61052-1729641600-1729814399@futurebeef.com.au
SUMMARY:Herefords Australia Future leaders and breeders forum — Brisbane
DESCRIPTION:The Herefords Australia Future leaders and breeders forum brings together participants between 20-45 years of age to gain valuable business skills to begin or advance their beef businesses and develop deeper levels of understanding as future industry leaders. \nThe program has been tailored so that it relates to the successful and sustainable running of both stud and commercial beef cattle enterprises. Attendees of all experience levels are welcomed and are guaranteed to gain something from this experience.
URL:https://futurebeef.com.au/event/herefords-australia-future-leaders-and-breeders-forum-brisbane/
LOCATION:Rydges Fortitude Valley\, 601 Gregory Terrace\, Bowen Hills\, Qld\, 4006\, Australia
CATEGORIES:Past event
END:VEVENT
BEGIN:VEVENT
DTSTART;TZID=Australia/Brisbane:20241023T080000
DTEND;TZID=Australia/Brisbane:20241023T163000
DTSTAMP:20260420T121544
CREATED:20241014T232637Z
LAST-MODIFIED:20241118T003432Z
UID:61370-1729670400-1729701000@futurebeef.com.au
SUMMARY:Rangeland management course — Katherine
DESCRIPTION:The Northern Territory Department of Agriculture and Fisheries invites you to attend their Rangeland management course\, being held at Katherine Research Station on Wednesday\, 23 October 2024. \nThe free\, one-day introductory course has been developed to enhance attendee’s understanding of pasture and livestock management in the NT rangelands. \nTopics covered include: \n\npasture identification\nland condition\nweeds and poisonous plants\nfire management\ncalculating carrying capacity\ncattle nutrition.\n\nRegistrations are essential! Contact Stacey Holzapfel on 08 8973 9730\, or Mary Williams on 08 8973 8491. \n  \n 
URL:https://futurebeef.com.au/event/rangeland-management-course-katherine/
LOCATION:Katherine Research Station\, 449 Stuart Highway\, Katherine\, NT\, 0851\, Australia
CATEGORIES:Past event
ORGANIZER;CN="Stacey Holzapfel":MAILTO:Stacey.holzapfel@nt.gov.au
END:VEVENT
BEGIN:VEVENT
DTSTART;TZID=Australia/Brisbane:20241023T083000
DTEND;TZID=Australia/Brisbane:20241023T163000
DTSTAMP:20260420T121544
CREATED:20240625T022646Z
LAST-MODIFIED:20241118T003436Z
UID:59682-1729672200-1729701000@futurebeef.com.au
SUMMARY:Grazing Fundamentals EDGE- Halls Creek
DESCRIPTION:Join Jill Alexander (AppliedAg) and Matt Fletcher (Range Assist) for a one day Grazing Fundamentals EDGE workshop \nWHERE: Halls Creek \nWHEN: 23 October 2024 (8:30am- 4:30pm) \nCOST: $800 + GST per person \n(includes comprehensive set of Workshop Notes and Workbook as well as lunch\, morning/afternoon tea) \nAttending this workshop will help you better understand:\n• The soils and plants in your area\n• Connections between land condition\, pasture growth and animal production\n• The importance of ground cover and soil moisture\n• How to allow for climate variability when planning and how to forage budget\n• The different grazing systems available. \nREGISTER NOW: Contact Matt Fletcher\, 0428 637 710 or mattfletcher@westnet.com.au \nFOR MORE INFORMATION\, VIEW THE EVENT FLYER HERE
URL:https://futurebeef.com.au/event/grazing-fundamentals-edge-halls-creek/
LOCATION:Halls Creek\,  Halls Creek\, WA\, 6770\, Australia
CATEGORIES:Past event
ORGANIZER;CN="Matt Fletcher":MAILTO:mattfletcher@westnet.com.au
END:VEVENT
BEGIN:VEVENT
DTSTART;TZID=Australia/Brisbane:20241023T090000
DTEND;TZID=Australia/Brisbane:20241023T160000
DTSTAMP:20260420T121544
CREATED:20240913T001238Z
LAST-MODIFIED:20241118T003445Z
UID:60811-1729674000-1729699200@futurebeef.com.au
SUMMARY:Pasture establishment workshop and paddock walk - Monto
DESCRIPTION:Join us for a pasture establishment workshop and paddock walk at Monto\nTopics covered include: \n\nPlanning a sowing window\nFallow techniques\nUnderstanding seed quality\nSowing methods\nSpecies selection\nShort and long term grazing management\nPaddock walk\n\nWHERE: Monto \nWHEN: 23 October 2024\, 9am – 4pm \nCOST: Free \n  \nSPEAKERS: \nStuart Buck (DAF) Stuart has spent over 25 years in central Queensland working on research\, development and extension projects in dryland cropping systems\, soil science\, and sown pasture systems. Over the last 15 years Stuart has supported graziers establish and manage sown pastures including tropical legumes such as leucaena. In recent years Stuart has led the DAF pasture dieback program. \nKylie Hopkins (DAF) Kylie is a beef extension officer based in Rockhampton. For more than 10 years she has worked with central Queensland graziers to improve their pastures and manage cattle nutrition. Her experience in pasture\, grazing and nutrition research and extension helps producers adopt practices to increase their productivity and profitability whilst taking good care of their country. \nDownload the flyer here. \nRSVP:  \nHayley Webster \n0413 379 826 \nhayley.webster@outlook.com
URL:https://futurebeef.com.au/event/pasture-establishment-workshop-and-paddock-walk/
LOCATION:Monto\, Monto\, Qld\, 4630\, Australia
CATEGORIES:Past event
ORGANIZER;CN="Kylie Hopkins":MAILTO:kylie.hopkins@daf.qld.gov.au
END:VEVENT
BEGIN:VEVENT
DTSTART;TZID=Australia/Brisbane:20241023T090000
DTEND;TZID=Australia/Brisbane:20241023T160000
DTSTAMP:20260420T121544
CREATED:20241014T011210Z
LAST-MODIFIED:20241118T003515Z
UID:61359-1729674000-1729699200@futurebeef.com.au
SUMMARY:Billy tea in the bush — Monto
DESCRIPTION:Burnett Catchment Care Association invites you to another Billy tea in the bush at Monto. Tour two properties located at Kapaldo and Glenleigh and view examples and practical advice on establishing and managing improved pastures and legumes. \nRSVP for Billy tea in the bush\nHear from Kylie Hopkins and Stuart Buck (Department of Agriculture and Fisheries) as they discuss practical advice on establishing and managing improved pastures and legumes on-site. \nReserve your seat today! \nContact Hayley Webster\, Burnett Catchment Care Association\, on 0413 379 826 by 18 October. \nGuests are requested to bring their own chair\, hat and sensible shoes.
URL:https://futurebeef.com.au/event/billy-tea-in-the-bush-monto/
LOCATION:Ben & Lindsay Scott’s place\, 142 Micks Road\, Monto\, Queensland\, 4630\, Australia
CATEGORIES:Past event
ORGANIZER;CN="Burnett Catchment Care Association (BCCA)":MAILTO:admin@burnettcatchment.org
END:VEVENT
END:VCALENDAR