BEGIN:VCALENDAR
VERSION:2.0
PRODID:-//FutureBeef - ECPv6.5.1.5//NONSGML v1.0//EN
CALSCALE:GREGORIAN
METHOD:PUBLISH
X-ORIGINAL-URL:https://futurebeef.com.au
X-WR-CALDESC:Events for FutureBeef
REFRESH-INTERVAL;VALUE=DURATION:PT1H
X-Robots-Tag:noindex
X-PUBLISHED-TTL:PT1H
BEGIN:VTIMEZONE
TZID:Australia/Brisbane
BEGIN:STANDARD
TZOFFSETFROM:+1000
TZOFFSETTO:+1000
TZNAME:AEST
DTSTART:20240101T000000
END:STANDARD
END:VTIMEZONE
BEGIN:VEVENT
DTSTART;VALUE=DATE:20241023
DTEND;VALUE=DATE:20241025
DTSTAMP:20260420T105622
CREATED:20240925T002744Z
LAST-MODIFIED:20241118T003425Z
UID:61052-1729641600-1729814399@futurebeef.com.au
SUMMARY:Herefords Australia Future leaders and breeders forum — Brisbane
DESCRIPTION:The Herefords Australia Future leaders and breeders forum brings together participants between 20-45 years of age to gain valuable business skills to begin or advance their beef businesses and develop deeper levels of understanding as future industry leaders. \nThe program has been tailored so that it relates to the successful and sustainable running of both stud and commercial beef cattle enterprises. Attendees of all experience levels are welcomed and are guaranteed to gain something from this experience.
URL:https://futurebeef.com.au/event/herefords-australia-future-leaders-and-breeders-forum-brisbane/
LOCATION:Rydges Fortitude Valley\, 601 Gregory Terrace\, Bowen Hills\, Qld\, 4006\, Australia
CATEGORIES:Past event
END:VEVENT
BEGIN:VEVENT
DTSTART;TZID=Australia/Brisbane:20241024T090000
DTEND;TZID=Australia/Brisbane:20241024T160000
DTSTAMP:20260420T105622
CREATED:20240919T050127Z
LAST-MODIFIED:20241118T003521Z
UID:60946-1729760400-1729785600@futurebeef.com.au
SUMMARY:Spyglass Field Day - Research Update
DESCRIPTION:FIELD DAY\nSpyglass Research Facility\nJoin us for an open day at Spyglass to hear updates on current research projects\nVirtually Fence Free Project – NQ Dry Tropics & QDAF\nThis new 4 year experiment is investigating if virtual fencing technology \n\ncan enable the productive use of previously ungrazed pastures\nallow rest on preferred pastures and areas\nmaximise pasture production and drought resilience.\n\nGully Remediation Project – QDAF & DESI\nExplore a variety of gully remediation treatments from from large to small trials on challenging Upper Burdekin soils. With the earthworks now complete\, this is your chance to see different approaches in action and learn how they may improve soil health and erosion control. \nQld Pasture Resilience Project\, Legume Demonstration Site – MLA & QDAF\nThe 80 ha site was planted in 2021 with separate paddocks of Leucaena\, Desmanthus\, Stylo and Grass\, and has been grazed for two years. Come and see which pastures are performing the best and what is providing the highest cattle weight gains. \nCost:\nFree! However\, RSVPs are required by 21 October. Morning tea and lunch will be provided. \n \nFor more information contact Charters Towers DAF Office 07 4787 5313\nClick here to see the full event flyer.
URL:https://futurebeef.com.au/event/spyglass-field-day-research-update/
CATEGORIES:Past event
ORGANIZER;CN="Bec Clapperton":MAILTO:Bec.Clapperton@daf.qld.gov.au
END:VEVENT
BEGIN:VEVENT
DTSTART;TZID=Australia/Brisbane:20241024T103000
DTEND;TZID=Australia/Brisbane:20241024T170000
DTSTAMP:20260420T105622
CREATED:20240912T015017Z
LAST-MODIFIED:20241118T003526Z
UID:60793-1729765800-1729789200@futurebeef.com.au
SUMMARY:WQ Beef Research Committee update- Windorah
DESCRIPTION:Producers are invited to hear the latest industry research\, facilitated by the Western QLD regional beef research committee. \nResearch updates will include: \n\nTrichomoniasis and herd impacts\nNew technologies for buffalo fly control\nUnlocking artificial intelligence for Australian cattle stations\nMicrobiome based methane testing\n\nWHEN: Thursday 24th October 2024\, 10:30am start \nWHERE: Windorah Community Centre \nCONTACT: Patricia Nolan- 0476 910 190\, patricia.nolan@daf.qld.gov.au \nRSVP HERE by Thursday 17th October \nDinner for attendees has kindly been sponsored by Geoethix\, at the Windorah hotel. \n 
URL:https://futurebeef.com.au/event/wq-beef-research-committee-update-windorah/
LOCATION:Windorah Community Centre\, Maryborough Street\, Windorah\, Qld\, 4481\, Australia
CATEGORIES:Past event
ORGANIZER;CN="Patricia Nolan":MAILTO:patricia.nolan@daf.qld.gov.au
END:VEVENT
END:VCALENDAR