BEGIN:VCALENDAR
VERSION:2.0
PRODID:-//FutureBeef - ECPv6.5.1.5//NONSGML v1.0//EN
CALSCALE:GREGORIAN
METHOD:PUBLISH
X-WR-CALNAME:FutureBeef
X-ORIGINAL-URL:https://futurebeef.com.au
X-WR-CALDESC:Events for FutureBeef
REFRESH-INTERVAL;VALUE=DURATION:PT1H
X-Robots-Tag:noindex
X-PUBLISHED-TTL:PT1H
BEGIN:VTIMEZONE
TZID:Australia/Brisbane
BEGIN:STANDARD
TZOFFSETFROM:+1000
TZOFFSETTO:+1000
TZNAME:AEST
DTSTART:20240101T000000
END:STANDARD
END:VTIMEZONE
BEGIN:VEVENT
DTSTART;TZID=Australia/Brisbane:20241106T083000
DTEND;TZID=Australia/Brisbane:20241108T170000
DTSTAMP:20260420T050109
CREATED:20240827T012514Z
LAST-MODIFIED:20241118T003737Z
UID:60494-1730881800-1731085200@futurebeef.com.au
SUMMARY:Nutrition EDGE- Katherine
DESCRIPTION:Katherine Nutrition EDGE is a three-day workshop and practical session covering all aspects of animal nutrition.  \nDate: 6-8 November 2024 \nTime: 8.30am to 5.00pm all days \nVenue: Katherine\, NT (plus paddock exercises) \nPresenter: Désirée Jackson\, Désirée Jackson Livestock Management \nCost: $1\,950* + GST / 1st person from one business; $1\,650* + GST / 2nd and 3rd person from same business (primary producers only. \nCost includes comprehensive set of workshop notes\, workbook and lunch\, morning and afternoon tea each day. \n*Register & pay for the workshop by 20 September to receive the early bird discount of $250. \nContact for registration: Désirée Jackson\, M:  0409 062 692 or E: desireejackson@djlm.com.au \nYou can find more information in the EVENT FLYER here
URL:https://futurebeef.com.au/event/nutrition-edge-katherine-2024/
LOCATION:Katherine\, Katherine\, NT\, 0850\, Australia
CATEGORIES:Past event
ORGANIZER;CN="Desiree Jackson":MAILTO:desireejackson@djlm.com.au
END:VEVENT
BEGIN:VEVENT
DTSTART;TZID=Australia/Brisbane:20241106T100000
DTEND;TZID=Australia/Brisbane:20241107T153000
DTSTAMP:20260420T050109
CREATED:20240924T040759Z
LAST-MODIFIED:20241118T003825Z
UID:61013-1730887200-1730993400@futurebeef.com.au
SUMMARY:Embracing agriculture digital innovation workshop: Caboolture
DESCRIPTION:Enhance your knowledge and skills and increase your understanding of the benefits of agriculture digital technologies. \nThe two-day workshop will cover: \n\nCurrent digital opportunities and farm management technology\nCyber-security and how to identify common cyber-threats using interactive videos and case studies\nDifferent types of connectivity\, including their advantages and disadvantages\nInternet of Things (IoT) systems and devices\, including sensors and their functions\nThe use of drones\, their capabilities\, benefits and limitations on farms\, plus relevant legislative requirements\nGlobal positioning technology including GNSS\, GPS\, and GIS\nMethods of precision farming and control using satellite navigation and other technologies\nHow to manage data effectively and securely\nAutomation and technologies used to improve supply chain processes\nTechnologies and innovations that are transforming the agricultural industry.\n\nFor more information and to register visit TAFE Queensland’s Embracing agriculture digital innovation workshops website.
URL:https://futurebeef.com.au/event/embracing-agriculture-digital-innovation-workshop-caboolture/
LOCATION:TAFE Queensland Caboolture Campus\, Tallon Street\, Caboolture\, Qld\, 4510\, Australia
CATEGORIES:Past event
END:VEVENT
BEGIN:VEVENT
DTSTART;TZID=Australia/Brisbane:20241107T090000
DTEND;TZID=Australia/Brisbane:20241107T130000
DTSTAMP:20260420T050109
CREATED:20241008T022448Z
LAST-MODIFIED:20241118T003905Z
UID:61280-1730970000-1730984400@futurebeef.com.au
SUMMARY:Agricultural succession — Sarina
DESCRIPTION:Join the TNQ Drought Hub and Reef Catchments for a free forum about succession planning in agricultural enterprises. \nHear practical solutions and strategic advice on how to manage your own unique succession journey with succession expert\, Scott Patterson\, from Alternative Strategies. \nTopics that will be discussed during the forum include: \n\nwhat is succession planning?\nbusiness structures – trading versus holding assets​\nbarriers to successful succession\nmanagement versus ownership succession\nbusiness versus assets\nfollowing a process\ncase study.\n\nScott will be available for one-on-one appointments in the afternoon at the venue. \nTimes\nWorkshop: 9.00 am to 1.00 pm (Morning tea at 10:30 am) \nPrivate appointments between 1:30 pm and 5 pm (30-minute slots) \nNOTE: You will received a link via booking confirmation to book your private appointment once you register. \nRegistration\nTo register\, contact Rachel Taylor\, Reef Catchments\, on 0419 778 402\, or rachel.taylor@reefcatchments.com.
URL:https://futurebeef.com.au/event/agricultural-succession-sarina/
LOCATION:Sarina Sporting and Services Club\, Cnr Broad St and Brewers Rd\, Sarina\, Queensland\, 4737\, Australia
CATEGORIES:Past event
ORGANIZER;CN="Rachel Taylor Reef Catchments":MAILTO:rachel.taylor@reefcatchments.com
END:VEVENT
BEGIN:VEVENT
DTSTART;TZID=Australia/Brisbane:20241107T090000
DTEND;TZID=Australia/Brisbane:20241107T140000
DTSTAMP:20260420T050109
CREATED:20241009T234500Z
LAST-MODIFIED:20241118T003836Z
UID:61322-1730970000-1730988000@futurebeef.com.au
SUMMARY:Marlborough - Grazing Business Resilience Workshop
DESCRIPTION:Grazing Business Resilience Workshop\nHow resilient is your business during tough times? \nJoin the Beef Extension team from the Department of Agriculture and\nFisheries to discuss current programs and assistance to help improve\nyour grazing business management through drought and tough times. \nTopics will include:\n• Developing a Farm Business Resilience Plan to apply for\ndrought assistance grants and loans\n• Grants and loans currently available through QRIDA\n• Rural Financial Counselling Service assistance\n• GRASS program and land condition improvement\n• Soil conservation fundamentals \nJohn Day – DAF Soil Conservation Officer will be available to assist\nwith erosion and other soil related enquiries. \nMorning tea and lunch will be provided – Please advise of any dietary\nrequirements. \nRegister for this workshop here: https://www.eventbrite.com.au/e/1037580038827?aff=oddtdtcreator \nGrazing Business Resilience Workshop Flyer
URL:https://futurebeef.com.au/event/marlborough-grazing-business-resilience-workshop/
LOCATION:Marlborough Hall\, Marlborough\, Qld\, 4705\, Australia
CATEGORIES:Past event
END:VEVENT
BEGIN:VEVENT
DTSTART;TZID=Australia/Brisbane:20241107T130000
DTEND;TZID=Australia/Brisbane:20241107T160000
DTSTAMP:20260420T050109
CREATED:20240916T014113Z
LAST-MODIFIED:20241118T003857Z
UID:60888-1730984400-1730995200@futurebeef.com.au
SUMMARY:Decision making under pressure — Online
DESCRIPTION:This is a highly interactive\, evidence-based\, and practical\, two-day online masterclass. Participants will be introduced to a range of tools to improve their own decisions and those of their teams so they can best meet their obligations and accountabilities as a leader. \nThe online masterclass focuses on building and maintaining psychological safety for contractive dissent in high pressure environments and the resulting impact on thinking and decision-making. As well as group dynamics considering multiple perspectives\, organisational culture\, meaning making and recognising and managing drift to unsafe conditions. \nThis event is run across two days in three-hour sessions and is presented through an online delivery method. \nProgram and learnings\n\nThis masterclass explores six topic areas and participants will learn about: \nTopic one: The impact of deep uncertainty – implications for disaster decision making\n\nExamining the features of contemporary events: volatility\, uncertainty\, ambiguity\, and complexity.\nThe impacts of shifting values; societal norms\, individual and group cohesion – turbulence and flux.\n\nTopic two: Decision making under pressure\n\nThe neuroscience of decision-making.\nThe impacts of stress\, time compression\, and uncertainty on individual and group decision-making.\nIndividual and team error traps.\nThe fallibility of judging decisions on outcomes.\n\nTopic three: Uncertainty and decision making: new skills and tools\n\nTools to assess volatility of an event\, monitoring drift and coping ugly.\nFeatures contributing to good leaders making bad decisions Identifying red flag conditions.\n\nTopic four: Making sense of decision making under pressure\n\nRecognising sources of pressure.\nIdentifying cognitive bias and developing meta-cognitive thinking.\nTools to support individual decision-making.\nGroup dynamics and organisational culture.\n\nTopic five: Building and maintaining psychological safety\n\nAssessing communication climate and team culture.\nBuilding and maintaining psychological safety for constructive dissent.\nMeaning-making and multiple perspectives.\n\nTopic six: Enhancing team decision making\n\nElements that undermine and enhance team effectiveness.\nEmbracing diversity.\nFacilitating authorising environments to enhance team capability.\n\nRegistration\n\nThe Decision making under pressure: new skills for the new normal masterclass is delivered online via Zoom for $395 per person\, inclusive of GST. \nEach participant will get: \n\nAccess code to participate via Zoom (one week prior).\nParticipant workbook\, in PDF format.\nAccess to facilitation team to ask questions.\nSafe and respectful learning environment.\n\nThe online masterclass is intended for those who make decisions in high pressure environments and who are interested in how to improve their decision-making and that of the teams they lead. \n\n\nMore information\nFor more information\, download the event flyer. \nWanting to register?
URL:https://futurebeef.com.au/event/decision-making-under-pressure-online/
LOCATION:Online\, Australia
CATEGORIES:Past event
END:VEVENT
END:VCALENDAR