BEGIN:VCALENDAR
VERSION:2.0
PRODID:-//FutureBeef - ECPv6.5.1.5//NONSGML v1.0//EN
CALSCALE:GREGORIAN
METHOD:PUBLISH
X-WR-CALNAME:FutureBeef
X-ORIGINAL-URL:https://futurebeef.com.au
X-WR-CALDESC:Events for FutureBeef
REFRESH-INTERVAL;VALUE=DURATION:PT1H
X-Robots-Tag:noindex
X-PUBLISHED-TTL:PT1H
BEGIN:VTIMEZONE
TZID:Australia/Brisbane
BEGIN:STANDARD
TZOFFSETFROM:+1000
TZOFFSETTO:+1000
TZNAME:AEST
DTSTART:20240101T000000
END:STANDARD
END:VTIMEZONE
BEGIN:VEVENT
DTSTART;TZID=Australia/Brisbane:20241108T090000
DTEND;TZID=Australia/Brisbane:20241108T140000
DTSTAMP:20260423T113405
CREATED:20241009T234830Z
LAST-MODIFIED:20241118T003846Z
UID:61325-1731056400-1731074400@futurebeef.com.au
SUMMARY:Calliope - Grazing Business Resilience Workshop
DESCRIPTION:Grazing Business Resilience Workshop\nHow resilient is your business during tough times? \nJoin the Beef Extension team from the Department of Agriculture and\nFisheries to discuss current programs and assistance to help improve\nyour grazing business management through drought and tough times. \nTopics will include:\n• Developing a Farm Business Resilience Plan to apply for\ndrought assistance grants and loans\n• Grants and loans currently available through QRIDA\n• Rural Financial Counselling Service assistance\n• GRASS program and land condition improvement\n• Soil conservation fundamentals \nJohn Day – DAF Soil Conservation Officer will be available to assist\nwith erosion and other soil related enquiries. \nMorning tea and lunch will be provided – Please advise of any dietary\nrequirements. \nRegister for this workshop here: https://www.eventbrite.com.au/e/1037581633597?aff=oddtdtcreator \nGrazing Business Resilience Workshop Flyer
URL:https://futurebeef.com.au/event/calliope-grazing-business-resilience-workshop/
LOCATION:Calliope Golf Club\, Stowe Road\, Calliope\,  Qld\, 4680 \, Australia
CATEGORIES:Past event
END:VEVENT
END:VCALENDAR