BEGIN:VCALENDAR
VERSION:2.0
PRODID:-//FutureBeef - ECPv6.5.1.5//NONSGML v1.0//EN
CALSCALE:GREGORIAN
METHOD:PUBLISH
X-WR-CALNAME:FutureBeef
X-ORIGINAL-URL:https://futurebeef.com.au
X-WR-CALDESC:Events for FutureBeef
REFRESH-INTERVAL;VALUE=DURATION:PT1H
X-Robots-Tag:noindex
X-PUBLISHED-TTL:PT1H
BEGIN:VTIMEZONE
TZID:Australia/Brisbane
BEGIN:STANDARD
TZOFFSETFROM:+1000
TZOFFSETTO:+1000
TZNAME:AEST
DTSTART:20240101T000000
END:STANDARD
END:VTIMEZONE
BEGIN:VEVENT
DTSTART;VALUE=DATE:20241112
DTEND;VALUE=DATE:20241113
DTSTAMP:20260423T113450
CREATED:20241003T050511Z
LAST-MODIFIED:20241118T003922Z
UID:61237-1731369600-1731455999@futurebeef.com.au
SUMMARY:Future Proofing Your Family Grazing Business
DESCRIPTION:Future Proofing Your Family Grazing Business\nA two-part series on preparing family businesses for future success.\nPart 1: Business considerations for a successful family business\n\n\n\nPresenter: Simone Parker\, Bush Agribusiness\nDate: Tuesday\, 12 November 2024\nVenue: Mercure Townsville\, 166-194 Woolcock Street\nCost: $50 per person or $30 per person for multiple participants from the same enterprise\n\n\n\n \nPart 2: Communication considerations for family businesses\n\n\n\nPresenter: Jill Rigney\, The Right Mind\nDate: Wednesday and Thursday\, 26-27 February 2025\nVenue: Yacht Club Townsville\, 1 Plume Street\nCost: $100pp\, 40% off for attendees of Part 1.\nTickets will open for sale for Part 2 in December 2024.\n\n\n\nFor more information contact bec.clapperton@daf.qld.gov.au or ndprprcarleigh.drew@nqdrytropics.com.au \nClick here to see the full event flyer. \nThe event is funded through the Queensland Reef Water Quality Program\, organized by NQ Dry Tropics and the Department of Agriculture and Fisheries (DAF).
URL:https://futurebeef.com.au/event/future-proofing-your-family-grazing-business/
LOCATION:Western Australia
CATEGORIES:Past event
ORGANIZER;CN="Bec Clapperton":MAILTO:Bec.Clapperton@daf.qld.gov.au
END:VEVENT
END:VCALENDAR