BEGIN:VCALENDAR
VERSION:2.0
PRODID:-//FutureBeef - ECPv6.5.1.5//NONSGML v1.0//EN
CALSCALE:GREGORIAN
METHOD:PUBLISH
X-WR-CALNAME:FutureBeef
X-ORIGINAL-URL:https://futurebeef.com.au
X-WR-CALDESC:Events for FutureBeef
REFRESH-INTERVAL;VALUE=DURATION:PT1H
X-Robots-Tag:noindex
X-PUBLISHED-TTL:PT1H
BEGIN:VTIMEZONE
TZID:Australia/Brisbane
BEGIN:STANDARD
TZOFFSETFROM:+1000
TZOFFSETTO:+1000
TZNAME:AEST
DTSTART:20240101T000000
END:STANDARD
END:VTIMEZONE
BEGIN:VEVENT
DTSTART;TZID=Australia/Brisbane:20241119T090000
DTEND;TZID=Australia/Brisbane:20241119T160000
DTSTAMP:20260423T113450
CREATED:20241008T011811Z
LAST-MODIFIED:20241223T021929Z
UID:61271-1732006800-1732032000@futurebeef.com.au
SUMMARY:Gulf Savannah Grazing forum — Georgetown
DESCRIPTION:Join Gulf Savannah NRM for the Gulf Savannah Grazing forum\, in Georgetown\, 19 November.\nThere’ll be workshops and speakers on:\n\nvirtual fencing\nsafe stock handling\nbiosecurity\ninnovative tech\nsuccession planning\nclimate updates for the 2024/2025 wet season.\n\n\n\n\n\n\nRegister your free place: bit.ly/gulf-grazing-forum.\n\nMorning tea and lunch provided.\n\n\n\nContact Vickie to book a free trade table: vickie.mylrea@gulfsavannahnrm.org or 4092 1088.\n\n\n\nThis project received grant funding from the Australian Government.
URL:https://futurebeef.com.au/event/gulf-savannah-grazing-forum-georgetown/
LOCATION:Georgetown Town Hall\, St George Street\, Georgetown\, Qld\, 4871\, Australia
CATEGORIES:Past event
ORGANIZER;CN="Gulf Savannah":MAILTO:leah.nugent@gulfsavannahnrm.org
END:VEVENT
END:VCALENDAR