BEGIN:VCALENDAR
VERSION:2.0
PRODID:-//FutureBeef - ECPv6.5.1.5//NONSGML v1.0//EN
CALSCALE:GREGORIAN
METHOD:PUBLISH
X-ORIGINAL-URL:https://futurebeef.com.au
X-WR-CALDESC:Events for FutureBeef
REFRESH-INTERVAL;VALUE=DURATION:PT1H
X-Robots-Tag:noindex
X-PUBLISHED-TTL:PT1H
BEGIN:VTIMEZONE
TZID:Australia/Brisbane
BEGIN:STANDARD
TZOFFSETFROM:+1000
TZOFFSETTO:+1000
TZNAME:AEST
DTSTART:20240101T000000
END:STANDARD
END:VTIMEZONE
BEGIN:VEVENT
DTSTART;VALUE=DATE:20241120
DTEND;VALUE=DATE:20241127
DTSTAMP:20260420T050108
CREATED:20240130T234000Z
LAST-MODIFIED:20241223T021912Z
UID:57719-1732060800-1732665599@futurebeef.com.au
SUMMARY:GrazingforProfit - Townsville
DESCRIPTION:GrazingforProfit® is Australia’s longest-running business program for the grazing industry. With over 8\,000 graduates\, it is also the most attended farm management program conducted in rural Australia. \nA 360-Degree Approach: \nGrazingforProfit® takes a comprehensive view\, encompassing all factors influencing your enterprise’s success. From climate variability to market fluctuations\, we equip you to make informed decisions that embrace the entirety of your business environment. \nThree reasons you should register today! \n\nCan’t say enough good things about RCS. Knowledge of presenters was fantastic. Course I believe every grazier should do. Follow up and information attendees can access is great! Walt\nA grazing or Farming for Profit course has the highest return on any education $ you will ever spend. RCS provides across the board education tools and backup that\, without doubt helps agricultural businesses to become more profitable\, sustainable and better prepared to bounce back after droughts\, downturns and floods. Brian\nBest well-rounded course. Honestly the best well-rounded course I have ever taken. I loved how immersive it was to make us really zone in on our businesses. It made me look at our numbers with different eyes and consider all aspects of our grazing business\, not just tax and cashflow. It gave me more tools and understanding than I ever thought was possible. This gives us confidence with our decision making and future. Janeta\n\n\nCost\n\nEarly Bird: $5\,000 (available until 14 June 2024)\n\n\nStandard: $5\,500 \n\nDon’t forget to register to secure your spot today!
URL:https://futurebeef.com.au/event/grazingforprofit-townsville/
CATEGORIES:Past event
ORGANIZER;CN="RCS - Resource Consulting Services":MAILTO:info@rcsaustralia.com.au
END:VEVENT
END:VCALENDAR