BEGIN:VCALENDAR
VERSION:2.0
PRODID:-//FutureBeef - ECPv6.5.1.5//NONSGML v1.0//EN
CALSCALE:GREGORIAN
METHOD:PUBLISH
X-WR-CALNAME:FutureBeef
X-ORIGINAL-URL:https://futurebeef.com.au
X-WR-CALDESC:Events for FutureBeef
REFRESH-INTERVAL;VALUE=DURATION:PT1H
X-Robots-Tag:noindex
X-PUBLISHED-TTL:PT1H
BEGIN:VTIMEZONE
TZID:Australia/Brisbane
BEGIN:STANDARD
TZOFFSETFROM:+1000
TZOFFSETTO:+1000
TZNAME:AEST
DTSTART:20240101T000000
END:STANDARD
END:VTIMEZONE
BEGIN:VEVENT
DTSTART;TZID=Australia/Brisbane:20241220T090000
DTEND;TZID=Australia/Brisbane:20241220T153000
DTSTAMP:20260423T130738
CREATED:20241202T013726Z
LAST-MODIFIED:20241223T022619Z
UID:61754-1734685200-1734708600@futurebeef.com.au
SUMMARY:Cattle\, carbon and sustainability — Gympie
DESCRIPTION:Join us in Gympie to discuss carbon opportunities for your grazing business\nCurious about carbon? Come along to Cattle\, carbon and sustainability as we talk through the basics of what carbon means to you\, how participating in a carbon project could impact your grazing business\, and the opportunities it may present. This free event will provide practical steps for graziers to reduce emissions\, or\, if applicable\, identify market options. \nCarbon in a grazing business\nAt Cattle\, carbon and sustainability\, we will discuss: \n\n\n\nCarbon sources and sinks\nEmission baselining – what you will need to complete an account\nYour options to reduce emissions\nCarbon projects and the associated legalities\nBalancing potential returns from carbon projects and beef production\nMarket signals ― is the market ready for carbon reduced products?\n\n\n\nYour carbon and beef industry experts\nJosh Peart (Grazing Scientist)\, Christophe Bur (Director\, Quentic and Climate Active certified consultant) Kate Brown and Jodie Ward (Beef Extension Officers). \nWorkshop details\nDate: Friday\, 20 December 2024 \nLocation: Gympie\, venue to be confirmed \nCost: Free! We will provide smoko and lunch \nRSVP by 13 December 2024. \n  \n \nThis event is jointly funded through the Australian Government’s Future Drought Fund and the Queensland Government’s Drought and Climate Adaptation and Reef Water Quality Programs. \nWorkshop flyer: Cattle carbon and sustainability Gympie with venue \nFor more information\, contact Josh Peart\, on 0407 180 827.
URL:https://futurebeef.com.au/event/cattle-carbon-and-sustainability-gympie/
LOCATION:Western Australia
CATEGORIES:Past event
END:VEVENT
END:VCALENDAR