BEGIN:VCALENDAR
VERSION:2.0
PRODID:-//FutureBeef - ECPv6.5.1.5//NONSGML v1.0//EN
CALSCALE:GREGORIAN
METHOD:PUBLISH
X-WR-CALNAME:FutureBeef
X-ORIGINAL-URL:https://futurebeef.com.au
X-WR-CALDESC:Events for FutureBeef
REFRESH-INTERVAL;VALUE=DURATION:PT1H
X-Robots-Tag:noindex
X-PUBLISHED-TTL:PT1H
BEGIN:VTIMEZONE
TZID:Australia/Brisbane
BEGIN:STANDARD
TZOFFSETFROM:+1000
TZOFFSETTO:+1000
TZNAME:AEST
DTSTART:20250101T000000
END:STANDARD
END:VTIMEZONE
BEGIN:VEVENT
DTSTART;TZID=Australia/Brisbane:20250203T093000
DTEND;TZID=Australia/Brisbane:20250203T130000
DTSTAMP:20260424T084645
CREATED:20250117T043141Z
LAST-MODIFIED:20250225T055310Z
UID:62238-1738575000-1738587600@futurebeef.com.au
SUMMARY:What's your plan? - Mungallala
DESCRIPTION:Drought and challenging times are a reality for primary producers. Department of Primary Industries\, Rural Solutions Queensland\, Queensland Rural and Industry Development Authority and Southern Queensland Landscapes invite you to an interactive workshop to improve the resilience of your grazing enterprise. \nAt this workshop you’ll: \n\nLearn about the new drought loans & grants available to producers & how to access them.\nStep through developing a Farm Business Resilience Plan and be provided with resources.\nDiscuss different risk management strategies with fellow producers and speakers.\n\n \nSee the event flyer here: EVENT FLYER
URL:https://futurebeef.com.au/event/whats-your-plan-mungallala/
LOCATION:Western Australia
CATEGORIES:Past event
END:VEVENT
END:VCALENDAR