BEGIN:VCALENDAR
VERSION:2.0
PRODID:-//FutureBeef - ECPv6.5.1.5//NONSGML v1.0//EN
CALSCALE:GREGORIAN
METHOD:PUBLISH
X-WR-CALNAME:FutureBeef
X-ORIGINAL-URL:https://futurebeef.com.au
X-WR-CALDESC:Events for FutureBeef
REFRESH-INTERVAL;VALUE=DURATION:PT1H
X-Robots-Tag:noindex
X-PUBLISHED-TTL:PT1H
BEGIN:VTIMEZONE
TZID:Australia/Brisbane
BEGIN:STANDARD
TZOFFSETFROM:+1000
TZOFFSETTO:+1000
TZNAME:AEST
DTSTART:20250101T000000
END:STANDARD
END:VTIMEZONE
BEGIN:VEVENT
DTSTART;TZID=Australia/Brisbane:20250225T084500
DTEND;TZID=Australia/Brisbane:20250225T143000
DTSTAMP:20260424T075256
CREATED:20250120T051501Z
LAST-MODIFIED:20250225T055653Z
UID:62286-1740473100-1740493800@futurebeef.com.au
SUMMARY:Improve your business with a working knowledge of Excel — Tansey
DESCRIPTION:Have you downloaded a spreadsheet and not been able to use it? \nDo you struggle with dealing with endless data and information? \nBurnett Catchment Care Association and AgConnect are running an Excel workshop in Tansey\, Tuesday\, 25th February\, 2025. \nThis workshop will step you through the basics of Microsoft Excel and help you keep on top of your office work. \nThe workshop will include practical grazing business spreadsheets that you can use at home. \nTopics covered at the Tansey workshop\nAt the workshop\, we will discuss: \n\ngetting familiar with Excel\ncreating new worksheets\nunderstanding and creating basic formulas\nlinking worksheets\nentering and copying data\ncreating a new spreadsheet from a template\nusing Excel Help.\n\nCOMPUTERS WILL BE PROVIDED but you are welcome to bring and use your own device. \nMorning tea and lunch provided. \nLimited seats\nBookings are essential. RSVP by 21 February – Click here to RSVP!
URL:https://futurebeef.com.au/event/excel-workshop-tansey/
LOCATION:Tansey Bowls Club\, 28 Tansey Hall Rad\, Tansey\, Queensland\, 4601\, Australia
CATEGORIES:Past event
ORGANIZER;CN="Burnett Catchment Care Association (BCCA)":MAILTO:admin@burnettcatchment.org
END:VEVENT
END:VCALENDAR