BEGIN:VCALENDAR
VERSION:2.0
PRODID:-//FutureBeef - ECPv6.5.1.5//NONSGML v1.0//EN
CALSCALE:GREGORIAN
METHOD:PUBLISH
X-ORIGINAL-URL:https://futurebeef.com.au
X-WR-CALDESC:Events for FutureBeef
REFRESH-INTERVAL;VALUE=DURATION:PT1H
X-Robots-Tag:noindex
X-PUBLISHED-TTL:PT1H
BEGIN:VTIMEZONE
TZID:Australia/Brisbane
BEGIN:STANDARD
TZOFFSETFROM:+1000
TZOFFSETTO:+1000
TZNAME:AEST
DTSTART:20250101T000000
END:STANDARD
END:VTIMEZONE
BEGIN:VEVENT
DTSTART;TZID=Australia/Brisbane:20250409T090000
DTEND;TZID=Australia/Brisbane:20250410T153000
DTSTAMP:20260424T063427
CREATED:20250121T234453Z
LAST-MODIFIED:20250429T101342Z
UID:62327-1744189200-1744299000@futurebeef.com.au
SUMMARY:Grazing Management Workshops - Dick Richardson - Tarzali\, Atherton Tableands
DESCRIPTION:Join us in the Tarzali region for two grazing workshops with Dick Richardson on Tuesday 9 April and Wednesday 10 April…\n\n\nGraziers from across the region are encouraged to come to these free events\, which will focus on ways to optimise cattle and pasture performance. \nTerrain NRM is bringing grazing guru Dick Richardson back to the region for these events – the first for those who haven’t been to one of his workshops before\, or want a refresher\, and the second for those who’ve been before and want to delve deeper.  We will be looking at everything from reading animal\, dung and pasture condition to stock movement and assessing feed availability. \nDick Richardson is an internationally recognised leader in natural grazing principles to improve soil depth\, water retention\, biodiversity and animal production. \nHe has been helping graziers in our region for more than five years. \nDuring the workshops\, which will run from 9am to 3:30pm\, there will also be plenty of time to ask questions\, share experiences and ideas. \nRegister for a workshop\, or find out more\, by emailing Terrain NRM’s Duncan Buckle at duncan.buckle@terrain.org.au or calling Terrain NRM on (07) 4043 8000.
URL:https://futurebeef.com.au/event/grazing-management-workshops-dick-richardson-tarzali-atherton-tableands/
LOCATION:Tarzali\, Tarzali\, Queensland\, 4885\, Australia
CATEGORIES:Past event
END:VEVENT
END:VCALENDAR