BEGIN:VCALENDAR
VERSION:2.0
PRODID:-//FutureBeef - ECPv6.5.1.5//NONSGML v1.0//EN
CALSCALE:GREGORIAN
METHOD:PUBLISH
X-ORIGINAL-URL:https://futurebeef.com.au
X-WR-CALDESC:Events for FutureBeef
REFRESH-INTERVAL;VALUE=DURATION:PT1H
X-Robots-Tag:noindex
X-PUBLISHED-TTL:PT1H
BEGIN:VTIMEZONE
TZID:Australia/Brisbane
BEGIN:STANDARD
TZOFFSETFROM:+1000
TZOFFSETTO:+1000
TZNAME:AEST
DTSTART:20250101T000000
END:STANDARD
END:VTIMEZONE
BEGIN:VEVENT
DTSTART;TZID=Australia/Brisbane:20250513T090000
DTEND;TZID=Australia/Brisbane:20250513T160000
DTSTAMP:20260424T052527
CREATED:20250422T031119Z
LAST-MODIFIED:20250602T000654Z
UID:63459-1747126800-1747152000@futurebeef.com.au
SUMMARY:Grazing business resilience workshop — Toogoolawah
DESCRIPTION:Come along to Toogoolawah\, 13 May to discuss current programs and assistance to help improve your grazing business management with Healthy Land and Water and Department of Primary Industries. \nThe Grazing business resilience workshop at Toogoolawah will cover practical solutions for your grazing business. \nTopics will include: \n\ndeveloping a Farm Business Resilience Plan\napplying for drought assistance grants and loans\ngrants and loans currently available through QRIDA\nrural financial counselling service assistance\ndry season nutrition management.\n\nMorning tea and lunch will be provided. \nFor questions\, contact Vanessa Smolders on vanessa.s@hlw.org.au. \nThis project is being supported by the Queensland Department of Primary Industries\, through the Queensland and Australian Government’s Farm Business Resilience Program and by Healthy Land & Water through the Australian Government’s Climate Smart Agriculture Program under the Natural Heritage Trust. \n 
URL:https://futurebeef.com.au/event/grazing-business-resilience-workshop-toogoolawah/
LOCATION:Toogoolawah Golf Club\, Annette Street\, Toogoolawah\, Queensland\, 4313\, Australia
CATEGORIES:Past event
END:VEVENT
END:VCALENDAR