BEGIN:VCALENDAR
VERSION:2.0
PRODID:-//FutureBeef - ECPv6.5.1.5//NONSGML v1.0//EN
CALSCALE:GREGORIAN
METHOD:PUBLISH
X-WR-CALNAME:FutureBeef
X-ORIGINAL-URL:https://futurebeef.com.au
X-WR-CALDESC:Events for FutureBeef
REFRESH-INTERVAL;VALUE=DURATION:PT1H
X-Robots-Tag:noindex
X-PUBLISHED-TTL:PT1H
BEGIN:VTIMEZONE
TZID:Australia/Brisbane
BEGIN:STANDARD
TZOFFSETFROM:+1000
TZOFFSETTO:+1000
TZNAME:AEST
DTSTART:20250101T000000
END:STANDARD
END:VTIMEZONE
BEGIN:VEVENT
DTSTART;VALUE=DATE:20250520
DTEND;VALUE=DATE:20250522
DTSTAMP:20260424T052409
CREATED:20250414T003217Z
LAST-MODIFIED:20250602T000540Z
UID:63409-1747699200-1747871999@futurebeef.com.au
SUMMARY:Grazing Forum - Laura
DESCRIPTION:Join Cape York NRM and a host of industry experts at this FREE 2-day event to discuss key topics including genetics\, breeding\, animal health & nutrition\, fire management\, erosion control and more… \nEntertainment on Tuesday night with dinner and live music by Ella Hartwig. \nCatering provided throughout the event and free camping at showgrounds. \nDon’t forget to register! \n \nSee the event flyer here: EVENT FLYER
URL:https://futurebeef.com.au/event/grazing-forum-laura/
LOCATION:Laura Rodeo Grounds\, Laura\, 4871
CATEGORIES:Past event
ORGANIZER;CN="Cape York Natural Management":MAILTO:media@capeyorknrm.com.au
END:VEVENT
END:VCALENDAR