BEGIN:VCALENDAR
VERSION:2.0
PRODID:-//FutureBeef - ECPv6.5.1.5//NONSGML v1.0//EN
CALSCALE:GREGORIAN
METHOD:PUBLISH
X-ORIGINAL-URL:https://futurebeef.com.au
X-WR-CALDESC:Events for FutureBeef
REFRESH-INTERVAL;VALUE=DURATION:PT1H
X-Robots-Tag:noindex
X-PUBLISHED-TTL:PT1H
BEGIN:VTIMEZONE
TZID:Australia/Brisbane
BEGIN:STANDARD
TZOFFSETFROM:+1000
TZOFFSETTO:+1000
TZNAME:AEST
DTSTART:20250101T000000
END:STANDARD
END:VTIMEZONE
BEGIN:VEVENT
DTSTART;VALUE=DATE:20250520
DTEND;VALUE=DATE:20250522
DTSTAMP:20260424T052434
CREATED:20250414T003217Z
LAST-MODIFIED:20250602T000540Z
UID:63409-1747699200-1747871999@futurebeef.com.au
SUMMARY:Grazing Forum - Laura
DESCRIPTION:Join Cape York NRM and a host of industry experts at this FREE 2-day event to discuss key topics including genetics\, breeding\, animal health & nutrition\, fire management\, erosion control and more… \nEntertainment on Tuesday night with dinner and live music by Ella Hartwig. \nCatering provided throughout the event and free camping at showgrounds. \nDon’t forget to register! \n \nSee the event flyer here: EVENT FLYER
URL:https://futurebeef.com.au/event/grazing-forum-laura/
LOCATION:Laura Rodeo Grounds\, Laura\, 4871
CATEGORIES:Past event
ORGANIZER;CN="Cape York Natural Management":MAILTO:media@capeyorknrm.com.au
END:VEVENT
BEGIN:VEVENT
DTSTART;VALUE=DATE:20250521
DTEND;VALUE=DATE:20250523
DTSTAMP:20260424T052434
CREATED:20250512T060431Z
LAST-MODIFIED:20250602T000455Z
UID:63640-1747785600-1747958399@futurebeef.com.au
SUMMARY:Grazing for growth — Longreach
DESCRIPTION:Mexican rancher\, Alejandro Carrillo\, is returning to Australia and is teaming up with David McLean of Resource Consulting Services (RCS)\, to deliver a unique\, 2-day grazing workshop that is intentionally designed with rangeland pastoralists in mind. \nYour presenters\nAlejandro hails from Las Damas Ranch\, in the heart of the Chihuahuan Desert\, Mexico\, where he has evolved his grazing management to increase pasture diversity\, rain infiltration and the length of the growing season\, while repairing the water cycle and improving profitability. He is currently experiencing one of the driest times in living memory in his region and is acutely aware of the importance of coming together\, sharing game-changing insights\, and supporting each other. \nDavid has worked closely with producers across Australia for decades\, particularly in the Northern livestock industry. He has a keen understand the challenges graziers face in various contexts and uses his extensive knowledge and experience to support\, challenge\, and champion them as they pursue their visions. \nThe program\nDay one\, the 21st May\, will be held at the Rodney Seccombe Centre\, QANTAS Founders Museum in Longreach. This will be a day of theory\, discussion and strategy. \nDay two\, the 22nd May\, will be held at Latrobe Station 45 mins from Longreach. The Brown family invite producers and community members to see their results from trialling Alejandro’s methods discussed on his first visit. It is a chance to see the results firsthand\, ask questions\, and explore these strategies on your own land. \nYour ticket\nTickets are $65 and can be purchased here.
URL:https://futurebeef.com.au/event/grazing-for-growth-longreach/
LOCATION:Longreach\, Longreach\, Queensland\, 4730\, Australia
CATEGORIES:Past event
ORGANIZER;CN="RCS - Resource Consulting Services":MAILTO:info@rcsaustralia.com.au
END:VEVENT
BEGIN:VEVENT
DTSTART;TZID=Australia/Brisbane:20250521T083000
DTEND;TZID=Australia/Brisbane:20250521T163000
DTSTAMP:20260424T052434
CREATED:20250512T050553Z
LAST-MODIFIED:20250602T000447Z
UID:63620-1747816200-1747845000@futurebeef.com.au
SUMMARY:Grazing for a sustainable future — Yaamba
DESCRIPTION:Join Fitzroy Basin Association for a workshop that explores carbon in grazing including challenges\, opportunities and practical implementation.\nLearn how local beef producers are integrating carbon strategies with efficient herd  and grazing management to cut emissions and boost productivity. Hear real-world examples from graziers already making it work in their businesses. \nAbout the host\nNeil Farmer from “Lake Learmonth” which is a 2\,500ha breeding/trading enterprise located on the banks of the Fitzroy river\, undertaking rotational grazing with the goal for profitable and sustainable long-term environmental improvement for generations to come. \nMeet your speakers\nRhonda Toms-Morgan\nRhonda\, founder of ConnectAg\, is based in Queensland’s Maranoa region and supports grazing and broadacre producers across the state. She provides guidance on production\, land management\, environmental practices\, carbon and sustainability. She played a key role in creating the Carbon EDGE workshop and now leads its delivery for Meat & Livestock Australia. Rhonda is passionate about helping producers understand their carbon footprint find practical carbon solutions\, and balance business goals with environmental responsibility. She’s also committed to closing knowledge gaps in the industry\, helping producers confidently engage with supply chains\, consumers\, and policymakers on carbon and the future of agriculture. \nPhil Tickle\nPhil is a co-founder and managing director of Cibo Labs. He has a background in agriculture\, growing up on mixed farms in southern Australia. Phil has over 30 years experience in the application of geospatial and remote sensing solutions focused on natural resource management\, agriculture and climate change. He has worked in both private and government sectors undertaking applied research\, providing science-policy advice\, and leading national research and operational programs. Phil is passionate about delivering pragmatic solutions that support profitable farm businesses\, the broader agricultural sector and more sustainable landscapes. In his spare time Phil enjoys getting out in the bush with the family\, riding\, camping\, hiking and fishing. \nCarly and Grant Burnham\nCarly and Grant Burnham are leading beef producers based west of Monto in Queensland’s scenic North Burnett region. Together with their 4 children\, they run ‘Bonnie Doone’ – a 20\,000 acre organically certified beef grazing property. \nWith 6 generations of family ties to the land and agriculture in Queensland\, Carly and Grant are driven to keep innovating for a strong and sustainable future in farming. Bonnie Doone breeds and finishes cattle for export\, domestic and direct-to-consumer markets. Their operation also includes one of Australia’s most popular on-farm AirBnBs and an agroforestry enterprise. \nMore information\nFor more information\, contact Vicky Horstman\, 0419 160 537. \nClick here to book your spot.
URL:https://futurebeef.com.au/event/grazing-for-a-sustainable-future-yaamba/
LOCATION:Lake Learmonth\, 9 Atkinson Road\, Canoona\, Queensland\, 4702\, Australia
CATEGORIES:Past event
ORGANIZER;CN="Daniel Rea FBA":MAILTO:daniel.rea@fba.org.au
END:VEVENT
BEGIN:VEVENT
DTSTART;TZID=Australia/Brisbane:20250521T090000
DTEND;TZID=Australia/Brisbane:20250521T150000
DTSTAMP:20260424T052434
CREATED:20250512T061626Z
LAST-MODIFIED:20250602T000430Z
UID:63642-1747818000-1747839600@futurebeef.com.au
SUMMARY:Grazing naturally fundamentals workshop — Cloyna Hall (north of Murgon)
DESCRIPTION:Join Dick Richardson for an entertaining and hugely instructional session covering the basics of ecology\, plant growth and the principles of Grazing Naturally. The relationships between ecosystem function and the patterns of grazing is highlighted\, giving insight to outcomes and the patterns that created them. \nThe program\nThe day will cover: \n\nnatural carbon cycling\nthe liquid carbon pathway to soil building\nhow plants grow and create soil carbon\novergrazing\nrational versus rotational grazing\nthe “Grazing Naturally” method\nin paddock session\ncalculating carrying capacity including STACs in the paddocks.\n\nBook your spot\nTickets are $20 each and include smoko and lunch. Click here to book your ticket.
URL:https://futurebeef.com.au/event/grazing-naturally-fundamentals-workshop-cloyna/
LOCATION:Cloyna Hall\, North of Murgon\, 41 Cloyna West Road\, Cloyna\, Qld\, 4605\, Australia
CATEGORIES:Past event
ORGANIZER;CN="Burnett Catchment Care Association (BCCA)":MAILTO:admin@burnettcatchment.org
END:VEVENT
END:VCALENDAR