BEGIN:VCALENDAR
VERSION:2.0
PRODID:-//FutureBeef - ECPv6.5.1.5//NONSGML v1.0//EN
CALSCALE:GREGORIAN
METHOD:PUBLISH
X-WR-CALNAME:FutureBeef
X-ORIGINAL-URL:https://futurebeef.com.au
X-WR-CALDESC:Events for FutureBeef
REFRESH-INTERVAL;VALUE=DURATION:PT1H
X-Robots-Tag:noindex
X-PUBLISHED-TTL:PT1H
BEGIN:VTIMEZONE
TZID:Australia/Brisbane
BEGIN:STANDARD
TZOFFSETFROM:+1000
TZOFFSETTO:+1000
TZNAME:AEST
DTSTART:20250101T000000
END:STANDARD
END:VTIMEZONE
BEGIN:VEVENT
DTSTART;VALUE=DATE:20250527
DTEND;VALUE=DATE:20250530
DTSTAMP:20260424T024841
CREATED:20240923T034406Z
LAST-MODIFIED:20250602T000318Z
UID:60985-1748304000-1748563199@futurebeef.com.au
SUMMARY:RCS Grazing Clinic - Emerald QLD
DESCRIPTION:Grazing Clinic Short Course | 2.5 Days \nReady to take your grazing operation to the next level? The RCS Grazing Clinics offer a unique opportunity to learn from industry experts and gain the practical skills you need to maximise productivity and profitability. \nWhy Choose Our Grazing Clinics? \n\nExpert Guidance: Learn from industry-leading experts who have a deep understanding of grazing principles and practical experience.\nTailored Approach: Our clinics are designed to cater to the specific needs of grass farmers\, providing relevant and actionable insights.\nProven Results: Implement proven strategies that have helped countless farmers increase yields\, improve pasture health\, and enhance profitability.\nHolistic Approach: Gain a comprehensive understanding of grazing management\, from soil health and pasture nutrition to livestock management and financial planning.\nCommunity and Support: Connect with like-minded producers and benefit from a supportive network of peers.\n\nWhat You’ll Learn: \n\nMaster the Fundamentals: Gain a solid foundation in grazing principles\, including pasture ecology\, nutrient cycling\, and animal behaviour.\nOptimise Pasture Health: Discover techniques to improve soil health\, promote plant diversity\, and enhance pasture resilience.\nMaximise Livestock Performance: Learn how to optimise grazing rotations\, adjust stocking rates\, and provide optimal nutrition for your livestock.\nHarness the Power of Data: Utilise grazing management tools and data analysis to make informed decisions and track progress.\nBuild a Sustainable Future: Explore new agriculture practices and learn how to create a sustainable and profitable grazing operation.\n\n \nInvestment \nEarly Bird: $1\,350 per person (available until 18th February 2025) \nStandard: $1\,650 per person \nSecure your spot now!
URL:https://futurebeef.com.au/event/rcs-grazing-clinic-emerald-3/
LOCATION:Western Australia
CATEGORIES:Past event
ORGANIZER;CN="RCS - Resource Consulting Services":MAILTO:info@rcsaustralia.com.au
END:VEVENT
END:VCALENDAR