BEGIN:VCALENDAR
VERSION:2.0
PRODID:-//FutureBeef - ECPv6.5.1.5//NONSGML v1.0//EN
CALSCALE:GREGORIAN
METHOD:PUBLISH
X-WR-CALNAME:FutureBeef
X-ORIGINAL-URL:https://futurebeef.com.au
X-WR-CALDESC:Events for FutureBeef
REFRESH-INTERVAL;VALUE=DURATION:PT1H
X-Robots-Tag:noindex
X-PUBLISHED-TTL:PT1H
BEGIN:VTIMEZONE
TZID:Australia/Brisbane
BEGIN:STANDARD
TZOFFSETFROM:+1000
TZOFFSETTO:+1000
TZNAME:AEST
DTSTART:20250101T000000
END:STANDARD
END:VTIMEZONE
BEGIN:VEVENT
DTSTART;VALUE=DATE:20250611
DTEND;VALUE=DATE:20250618
DTSTAMP:20260424T024757
CREATED:20240923T031033Z
LAST-MODIFIED:20250804T002334Z
UID:60978-1749600000-1750204799@futurebeef.com.au
SUMMARY:GrazingforProfit - Toowoomba
DESCRIPTION:Get ready for a course that could literally change your life. Like thousands of graduates before you\, the seven-day RCS Farming & GrazingforProfit® will empower you to build a profitable\, mixed farming business. \nThree reasons you should register today! \n\nCan’t say enough good things about RCS. Knowledge of presenters was fantastic. Course I believe every grazier should do. Follow up and information attendees can access is great! Walt\nA grazing or Farming for Profit course has the highest return on any education $ you will ever spend. RCS provides across the board education tools and backup that\, without doubt helps agricultural businesses to become more profitable\, sustainable and better prepared to bounce back after droughts\, downturns and floods. Brian\nBest well-rounded course. Honestly the best well-rounded course I have ever taken. I loved how immersive it was to make us really zone in on our businesses. It made me look at our numbers with different eyes and consider all aspects of our grazing business\, not just tax and cashflow. It gave me more tools and understanding than I ever thought was possible. This gives us confidence with our decision making and future. Janeta\n\nA 360-Degree Approach: \nFarming & GrazingforProfit® takes a comprehensive view\, encompassing all factors influencing your enterprise’s success. From climate variability to market fluctuations\, we equip you to make informed decisions that embrace the entirety of your business environment. \n\nCost\nEarly Bird: $4979 (available until 11 April 2025)\n\n\nStandard: $5\,499 \nSecure your spot today!
URL:https://futurebeef.com.au/event/grazingforprofit-toowoomba/
LOCATION:Burke and Wills Hotel\, Toowoomba\, 554 Ruthven Street\, Toowoomba\, Queensland\, 4350\, Australia
CATEGORIES:Past event
ORGANIZER;CN="RCS - Resource Consulting Services":MAILTO:info@rcsaustralia.com.au
END:VEVENT
BEGIN:VEVENT
DTSTART;TZID=Australia/Brisbane:20250616T110000
DTEND;TZID=Australia/Brisbane:20250616T160000
DTSTAMP:20260424T024757
CREATED:20250602T003927Z
LAST-MODIFIED:20250804T002243Z
UID:63896-1750071600-1750089600@futurebeef.com.au
SUMMARY:Regenerating rural landscapes — Dulacca
DESCRIPTION:Southern Queensland Landscapes presents Regenerating rural landscapes at Dulacca\, 16 June. \nCome along for an interactive workshop to enhance your farm business. Learn about strategies to boost productivity and increase the sustainability of your operation from expert speakers. This hands-on session will provide real-world solutions\, and offer valuable insight into developing a resilient and productive landscape. \nTopics covered will include:\n\nmanaging native vegetation\nweed and pest management\nland rehydration\nincreasing ground cover\nsustainable grazing practices\nthe importance of biodiversity\navailable support and resources.\n\nThinking about coming?\nLet us know by Sunday\, 15 June. \nOr\, book your ticket at Regenerating rural landscapes – Dulacca \nFor more information contact Tia Cunnington on 0484 392 706. \n 
URL:https://futurebeef.com.au/event/regenerating-rural-landscapes-dulacca/
LOCATION:Pioneers’ Memorial Hall Dulacca\, Dulacca\, Qld\, 4425
CATEGORIES:Past event
ORGANIZER;CN="Tia Cunnington":MAILTO:tia.cunnington@deservices.com.au
END:VEVENT
END:VCALENDAR