BEGIN:VCALENDAR
VERSION:2.0
PRODID:-//FutureBeef - ECPv6.5.1.5//NONSGML v1.0//EN
CALSCALE:GREGORIAN
METHOD:PUBLISH
X-WR-CALNAME:FutureBeef
X-ORIGINAL-URL:https://futurebeef.com.au
X-WR-CALDESC:Events for FutureBeef
REFRESH-INTERVAL;VALUE=DURATION:PT1H
X-Robots-Tag:noindex
X-PUBLISHED-TTL:PT1H
BEGIN:VTIMEZONE
TZID:Australia/Brisbane
BEGIN:STANDARD
TZOFFSETFROM:+1000
TZOFFSETTO:+1000
TZNAME:AEST
DTSTART:20250101T000000
END:STANDARD
END:VTIMEZONE
BEGIN:VEVENT
DTSTART;TZID=Australia/Brisbane:20250617T083000
DTEND;TZID=Australia/Brisbane:20250619T170000
DTSTAMP:20260424T024757
CREATED:20250325T003029Z
LAST-MODIFIED:20250804T002229Z
UID:63257-1750149000-1750352400@futurebeef.com.au
SUMMARY:CANCELLED - Grazing Land Management EDGE — Charleville
DESCRIPTION:Please note this event has been cancelled\nDirect any enquiries Nicole Sallur on 0427 603 241 or email nicole.sallur@dpi.qld.gov.au\n  \nClick here to register.\nGrazing land management (GLM) EDGE is a 3-day workshop\, designed to give you a thorough understanding of the grazing land environment in which you operate. The workshop will provide you knowledge to strategically manage your grazing business\, so you can optimise your land condition and productivity in the long-term. \nAttending this workshop will help you to: \n\nunderstand how your land types influence productivity\nrecognise the dominant land types in your region and on your property\nunderstand how soil properties influence plant growth\nunderstand soil health and the factors that impact on it\nknow what land condition is\, how it’s assessed\, and how to manage livestock to maintain or achieve good condition\nunderstand the role of fire in your country\nunderstand the principles and planning steps for successfully managing weeds.\n\nWhat you will learn\nPractically\, this workshop will describe: \n\nselective grazing\, its function\, and how to reduce impacts\nhow to identify key plant species\nthe ecosystem processes that underpin productivity\nbasic principles of effective grazing systems\nhow to assess long-term carrying capacity of paddocks and properties\nforage budgeting to manage variation in pasture on offer\nhow to choose appropriate tools and strategies to improve land condition and carrying capacities.\n\nCost\n$800 + GST per person (normally $1950 + GST). \nDiscounted prices are possible thanks to support from Southern Queensland Landscapes. \nCost includes comprehensive set of workshop notes\, workbook\, decision support spreadsheet tools and all catering. \n\n\nYour presenters\nMegan Willis\, Alex Thomson\, Bec Brayley and Nicole Sallur (Department of Primary Industries) \nChris Crafter and Jackson Shillingsworth (Southern Queensland Landscapes) \nGlenn Landsberg (Landscape Restoration Practitioner) \nRegistration details\n\nClick here to register.\nRegistrations close 5 June. \nFor more information contact: Nicole Sallur on 0427 603 241 or email nicole.sallur@daf.qld.gov.au \nClick here to view the workshop flyer.\n\n\n 
URL:https://futurebeef.com.au/event/grazing-land-management-edge-charleville/
LOCATION:Western Australia
CATEGORIES:Past event
ORGANIZER;CN="Nicole Sallur":MAILTO:nicole.sallur@daf.qld.gov.au
END:VEVENT
BEGIN:VEVENT
DTSTART;TZID=Australia/Brisbane:20250619T110000
DTEND;TZID=Australia/Brisbane:20250619T160000
DTSTAMP:20260424T024757
CREATED:20250602T004321Z
LAST-MODIFIED:20250804T002134Z
UID:63900-1750330800-1750348800@futurebeef.com.au
SUMMARY:Regenerating rural landscapes — Moonie
DESCRIPTION:Southern Queensland Landscapes presents Regenerating rural landscapes at Moonie\, 19 June. \nCome along for an interactive workshop to enhance your farm business. Learn about strategies to boost productivity and increase the sustainability of your operation from expert speakers. This hands-on session will provide real-world solutions\, and offer valuable insight into developing a resilient and productive landscape. \nTopics covered will include:\n\nmanaging native vegetation\nweed and pest management\nland rehydration\nincreasing ground cover\nsustainable grazing practices\nthe importance of biodiversity\navailable support and resources.\n\nThinking about coming?\nLet us know by Wednesday\, 18 June. \nOr\, book your ticket at Regenerating rural landscapes —Moonie \nFor more information contact Tia Cunnington on 0484 392 706. \n 
URL:https://futurebeef.com.au/event/regenerating-rural-landscapes-moonie/
LOCATION:Moonie Sports Club\, Corner of Moonie and Leichardt Highways\, Moonie\, Queensland\, 4406\, Australia
CATEGORIES:Past event
ORGANIZER;CN="Tia Cunnington":MAILTO:tia.cunnington@deservices.com.au
END:VEVENT
END:VCALENDAR