BEGIN:VCALENDAR
VERSION:2.0
PRODID:-//FutureBeef - ECPv6.5.1.5//NONSGML v1.0//EN
CALSCALE:GREGORIAN
METHOD:PUBLISH
X-ORIGINAL-URL:https://futurebeef.com.au
X-WR-CALDESC:Events for FutureBeef
REFRESH-INTERVAL;VALUE=DURATION:PT1H
X-Robots-Tag:noindex
X-PUBLISHED-TTL:PT1H
BEGIN:VTIMEZONE
TZID:Australia/Brisbane
BEGIN:STANDARD
TZOFFSETFROM:+1000
TZOFFSETTO:+1000
TZNAME:AEST
DTSTART:20250101T000000
END:STANDARD
END:VTIMEZONE
BEGIN:VEVENT
DTSTART;TZID=Australia/Brisbane:20250624T090000
DTEND;TZID=Australia/Brisbane:20250624T140000
DTSTAMP:20260424T024922
CREATED:20250602T003429Z
LAST-MODIFIED:20250804T002118Z
UID:63891-1750755600-1750773600@futurebeef.com.au
SUMMARY:Regenerating rural landscapes — Augathella
DESCRIPTION:Southern Queensland Landscapes presents Regenerating rural landscapes at Augathella\, 24 June. \nCome along for an interactive workshop to enhance your farm business. Learn about strategies to boost productivity and increase the sustainability of your operation from expert speakers. This hands-on session will provide real-world solutions\, and offer valuable insight into developing a resilient and productive landscape. \nTopics covered will include:\n\nmanaging native vegetation\nweed and pest management\nland rehydration\nincreasing ground cover\nsustainable grazing practices\nthe importance of biodiversity\navailable support and resources.\n\nThinking about coming?\nLet us know by Monday\, 23 June. \nOr\, book your ticket at Regenerating Rural Landscapes Series\, AUGATHELLA QLD – Practical Strategies for Productivity and Sustainability \nFor more information contact Tia Cunnington on 0484 392 706.
URL:https://futurebeef.com.au/event/regenerating-rural-landscapes-augathella/
LOCATION:Augathella Rural Transaction Centre\, 96-98 Main Street\, Augathella\, Queensland\, 4477\, Australia
CATEGORIES:Past event
ORGANIZER;CN="Tia Cunnington":MAILTO:tia.cunnington@deservices.com.au
END:VEVENT
BEGIN:VEVENT
DTSTART;TZID=Australia/Brisbane:20250624T090000
DTEND;TZID=Australia/Brisbane:20250624T164000
DTSTAMP:20260424T024922
CREATED:20250508T035003Z
LAST-MODIFIED:20250804T002113Z
UID:63585-1750755600-1750783200@futurebeef.com.au
SUMMARY:Stepping into grazing strategies - Pentland
DESCRIPTION:Get hands-on\, industry-backed insights and a personalised plan to boost productivity and profitable pastures.\nWant to gain practical insights and guidance from experienced producers on managing grazing pressure? Hear what research says about improving land and herd production? Make informed\, research supported decisions for your grazing? Then this program may be for you! \nCost: FREE! \nSmoko & Lunch provided. \nRSVP by 10 June to secure your place. \nRegister for this event here. \n \n 
URL:https://futurebeef.com.au/event/stepping-into-grazing-strategies-pentland/
LOCATION:Western Australia
CATEGORIES:Past event
END:VEVENT
END:VCALENDAR