BEGIN:VCALENDAR
VERSION:2.0
PRODID:-//FutureBeef - ECPv6.5.1.5//NONSGML v1.0//EN
CALSCALE:GREGORIAN
METHOD:PUBLISH
X-WR-CALNAME:FutureBeef
X-ORIGINAL-URL:https://futurebeef.com.au
X-WR-CALDESC:Events for FutureBeef
REFRESH-INTERVAL;VALUE=DURATION:PT1H
X-Robots-Tag:noindex
X-PUBLISHED-TTL:PT1H
BEGIN:VTIMEZONE
TZID:Australia/Brisbane
BEGIN:STANDARD
TZOFFSETFROM:+1000
TZOFFSETTO:+1000
TZNAME:AEST
DTSTART:20250101T000000
END:STANDARD
END:VTIMEZONE
BEGIN:VEVENT
DTSTART;TZID=Australia/Brisbane:20250708T083000
DTEND;TZID=Australia/Brisbane:20250708T170000
DTSTAMP:20260424T012657
CREATED:20250624T052804Z
LAST-MODIFIED:20250804T002016Z
UID:64451-1751963400-1751994000@futurebeef.com.au
SUMMARY:Burning for outcomes — Collinsville
DESCRIPTION:Whether you want to burn for mitigation\, production\, conservation\, wildfires\, this workshop is for you.\nNQ Dry Tropics invites you to join them and Rural Fire Service Queensland for a workshop focused on burning for an intended outcome such as mitigation\, production\, conservation or wildfire response. \nLearn about:\n– how to use fire as a tool for grazing\, weed\, cultural and conservation outcomes;\n– roles and responsibilities of graziers and rural fire services during a bush fire emergency;\n– QRFS command and control\, funding during a bushfire event\, and bush fire preparation funding opportunities for communities; and\n– low intensity burning techniques (includes a demonstration).
URL:https://futurebeef.com.au/event/burning-for-outcomes-collinsville/
LOCATION:Opal Ridge Motel\, 23 Stanley Street\, Collinsville\, Qld\, 4804\, Australia
CATEGORIES:Past event
ORGANIZER;CN="NQ Dry Tropics":MAILTO:carleigh.drew@nqdrytropics.com.au
END:VEVENT
END:VCALENDAR