BEGIN:VCALENDAR
VERSION:2.0
PRODID:-//FutureBeef - ECPv6.5.1.5//NONSGML v1.0//EN
CALSCALE:GREGORIAN
METHOD:PUBLISH
X-WR-CALNAME:FutureBeef
X-ORIGINAL-URL:https://futurebeef.com.au
X-WR-CALDESC:Events for FutureBeef
REFRESH-INTERVAL;VALUE=DURATION:PT1H
X-Robots-Tag:noindex
X-PUBLISHED-TTL:PT1H
BEGIN:VTIMEZONE
TZID:Australia/Brisbane
BEGIN:STANDARD
TZOFFSETFROM:+1000
TZOFFSETTO:+1000
TZNAME:AEST
DTSTART:20250101T000000
END:STANDARD
END:VTIMEZONE
BEGIN:VEVENT
DTSTART;TZID=Australia/Brisbane:20250717T080000
DTEND;TZID=Australia/Brisbane:20250717T170000
DTSTAMP:20260424T012658
CREATED:20250310T231718Z
LAST-MODIFIED:20250804T001943Z
UID:63038-1752739200-1752771600@futurebeef.com.au
SUMMARY:Grazing Fundamentals EDGE- Alice Springs
DESCRIPTION:  \nJoin Dionne Walsh (Range IQ) and Alison Kain (NT DAF) for a one day Grazing Fundamentals EDGE workshop \nWHERE: Alice Springs \nWHEN: 17 July 2025 (8:00am- 5:00pm) \nCOST: $850 + GST / 1st person from one business; or $575 / 2nd and 3rd person from the same business (primary producers only). \n(includes comprehensive set of Workshop Notes and Workbook as well as lunch\, morning/afternoon tea) \nAttending this workshop will help you better understand:\n• The soils and plants in your area\n• Connections between land condition\, pasture growth and animal production\n• The importance of ground cover and soil moisture\n• How to allow for climate variability when planning and how to forage budget\n• The different grazing systems available. \nREGISTER NOW: Contact Dionne Walsh – Range IQ\, M: 0417 083 638\, E: dionne@rangeiq.com.au or Alison Kain – NT DAF\, M: 0409 281 649\, E: Alison.Kain@nt.gov.au \nFOR MORE INFORMATION\, VIEW THE EVENT FLYER HERE
URL:https://futurebeef.com.au/event/grazing-fundamentals-edge-alice-springs-2/
LOCATION:Alice Springs\, Alice Springs\, NT\, 0870\, Australia
CATEGORIES:Past event
ORGANIZER;CN="Dionne Walsh":MAILTO:dionne@rangeiq.com.au
END:VEVENT
BEGIN:VEVENT
DTSTART;TZID=Australia/Brisbane:20250717T090000
DTEND;TZID=Australia/Brisbane:20250717T150000
DTSTAMP:20260424T012658
CREATED:20250612T233350Z
LAST-MODIFIED:20250804T001924Z
UID:64046-1752742800-1752764400@futurebeef.com.au
SUMMARY:Bull Selection & Fertility Information Day (Toogoolawah)
DESCRIPTION:Join us at Toogoolawah to discuss breeding and fertility opportunities for your grazing business\nJoin Department of Primary Industries’ Tim Emery and local vet\, Dr Bill Roughan\, for an engaging and practical workshop focused on improving herd fertility and business outcomes. Whether you’re a seasoned producer or just starting out\, this workshop offers insights to help you make informed breeding decisions and drive the efficiency and profitability of your herd going forward. \nAt the Bull Selection and Fertiltiy information Day\, we will discuss: \n\nThe importance of having clear breeding objectives\nBull Breeding Soundness Evaluation (BBSE)/BULLCHECK\nReproductive disease management\nEstimated Breeding Values (EBVs) – making effective use of them\nUnderstanding what valuable information can be accessed online\nAn insight into various genetics focused research projects\n\nWorkshop details\nDate: 17 July 2025 \nTime: 9:00am to 3:00pm \nLocation: The Toogoolawah Golf Club \nCost: Free! We will provide smoko and lunch. \nRegister at: Bull Selection & Fertility Information Day (Toogoolawah) \nFor enquiries\, please contact Vanessa Smolders on 0432 561 610 (vanessa.s@hlw.org.au) or Greg Bath on 0418 988 579 (greg.bath@dpi.qld.gov.au) \n \nThis event is supported by the Australian Government through funding from the Climate-Smart Agriculture Program under the Natural Heritage Trust and the Farm Business Resilience Program which is jointly funded through the Australian Government’s Future Drought Fund and the Queensland Government’s Drought and Climate Adaptation Program. \nDownload the flyer: Bull Selection and Fertility flyer – Toogoolawah (PDF; 340KB)
URL:https://futurebeef.com.au/event/bull-selection-fertility-information-day-toogoolawah/
LOCATION:Toogoolawah Golf Club\, Annette Street\, Toogoolawah\, Queensland\, 4313\, Australia
CATEGORIES:Past event
END:VEVENT
END:VCALENDAR