BEGIN:VCALENDAR
VERSION:2.0
PRODID:-//FutureBeef - ECPv6.5.1.5//NONSGML v1.0//EN
CALSCALE:GREGORIAN
METHOD:PUBLISH
X-WR-CALNAME:FutureBeef
X-ORIGINAL-URL:https://futurebeef.com.au
X-WR-CALDESC:Events for FutureBeef
REFRESH-INTERVAL;VALUE=DURATION:PT1H
X-Robots-Tag:noindex
X-PUBLISHED-TTL:PT1H
BEGIN:VTIMEZONE
TZID:Australia/Brisbane
BEGIN:STANDARD
TZOFFSETFROM:+1000
TZOFFSETTO:+1000
TZNAME:AEST
DTSTART:20250101T000000
END:STANDARD
END:VTIMEZONE
BEGIN:VEVENT
DTSTART;TZID=Australia/Brisbane:20250905T090000
DTEND;TZID=Australia/Brisbane:20250905T150000
DTSTAMP:20260423T224740
CREATED:20250624T013221Z
LAST-MODIFIED:20251127T065333Z
UID:64410-1757062800-1757084400@futurebeef.com.au
SUMMARY:Supporting grazing into the future - Wambiana Grazing Trial field day
DESCRIPTION:You’re Invited to the Wambiana Grazing Trial Field Day: \nSupporting Grazing into the Future \nA field day for service providers in the grazing industry \nIf you provide support to producers to build productive and profitable grazing businesses through improved grazing land management\, animal production and health\, and business planning then this field day is for you! \nLearn from successful producers who are improving their land and production through innovative grazing systems. Hear about the long-term trial data backing these methods and take-home valuable insights to use when talking to producers and other stakeholders. \nWhy Attend? \n\nLearn from the Success Stories of others who have implemented positive changes.\nNetwork with other providers to share your experiences\, ask questions\, and get answers.\nTake Home Practical Tips to share with others for improving land condition.\n\nFeatured Presenters: \n\nMichael Lyons (Wambiana): Using technology and genetics for making better cattle breeding decisions\nPeter O’Reagain (DPI): Key principles of productive and sustainable grazing management– results from the long term Wambiana grazing trial\nFran Lyons (Basalt River): Putting key grazing principles into practice at the property level\nToni Cottle & Teagan Lawrence (DPI Carbon team): Increasing farm efficiency to reduce Green House Gas emissions\nJanna Sim (DPI economist): Economics of farm decision making and the free tools available.\n\n  \nSpaces are limited! Don’t miss this opportunity to enhance your grazing knowledge. \n Register Now: https://www.trybooking.com/DCOPE \nTurnoff 50 km down the Gregory Development Road \n Smoko & lunch provided \nRegistration essential by Friday 29 August \nFor more information phone Megan Willis on 0467 801 777 or email megan.willis@dpi.qld.gov.au
URL:https://futurebeef.com.au/event/supporting-grazing-into-the-future-wambiana-grazing-trial-field-day/
LOCATION:Wambiana Station\, Campaspe\, Queensland\, Australia
CATEGORIES:Past event
ORGANIZER;CN="Yvonne Stanley":MAILTO:yvonne.stanley@daf.qld.gov.au
END:VEVENT
END:VCALENDAR