BEGIN:VCALENDAR
VERSION:2.0
PRODID:-//FutureBeef - ECPv6.5.1.5//NONSGML v1.0//EN
CALSCALE:GREGORIAN
METHOD:PUBLISH
X-WR-CALNAME:FutureBeef
X-ORIGINAL-URL:https://futurebeef.com.au
X-WR-CALDESC:Events for FutureBeef
REFRESH-INTERVAL;VALUE=DURATION:PT1H
X-Robots-Tag:noindex
X-PUBLISHED-TTL:PT1H
BEGIN:VTIMEZONE
TZID:Australia/Brisbane
BEGIN:STANDARD
TZOFFSETFROM:+1000
TZOFFSETTO:+1000
TZNAME:AEST
DTSTART:20250101T000000
END:STANDARD
END:VTIMEZONE
BEGIN:VEVENT
DTSTART;TZID=Australia/Brisbane:20250910T183000
DTEND;TZID=Australia/Brisbane:20250910T193000
DTSTAMP:20260423T223955
CREATED:20250811T012752Z
LAST-MODIFIED:20251127T065823Z
UID:64941-1757529000-1757532600@futurebeef.com.au
SUMMARY:MLA Sustainability series: Time controlled grazing — Webinar
DESCRIPTION:Join the Meat & Livestock Australia Sustainability Webinar Series: Time-Controlled Grazing\, 10 September at 6:30pm (AEST). \nTime-controlled grazing (TCG) has been promoted for its potential to improve soil health\, pasture productivity\, and livestock performance. However\, its adoption in Australia has been limited due to conflicting scientific evidence. \nResearch with Queensland University of Technology (QUT) compared paired paddocks under TCG and conventional grazing management\, measuring for impact on soil organic carbon (SOC) sequestration\, nitrogen and biodiversity. \nYour expert presenter will be Professor David Rowlings\, Program of Sustainable Agriculture – QUT.
URL:https://futurebeef.com.au/event/mla-sustainability-series-time-controlled-grazing-webinar/
LOCATION:Online\, Australia
CATEGORIES:Past event
ORGANIZER;CN="MLA":MAILTO:events@mla.com.au
END:VEVENT
END:VCALENDAR