BEGIN:VCALENDAR
VERSION:2.0
PRODID:-//FutureBeef - ECPv6.5.1.5//NONSGML v1.0//EN
CALSCALE:GREGORIAN
METHOD:PUBLISH
X-WR-CALNAME:FutureBeef
X-ORIGINAL-URL:https://futurebeef.com.au
X-WR-CALDESC:Events for FutureBeef
REFRESH-INTERVAL;VALUE=DURATION:PT1H
X-Robots-Tag:noindex
X-PUBLISHED-TTL:PT1H
BEGIN:VTIMEZONE
TZID:Australia/Brisbane
BEGIN:STANDARD
TZOFFSETFROM:+1000
TZOFFSETTO:+1000
TZNAME:AEST
DTSTART:20250101T000000
END:STANDARD
END:VTIMEZONE
BEGIN:VEVENT
DTSTART;TZID=Australia/Brisbane:20251009T090000
DTEND;TZID=Australia/Brisbane:20251009T150000
DTSTAMP:20260423T210725
CREATED:20250922T055420Z
LAST-MODIFIED:20251127T070641Z
UID:65685-1760000400-1760022000@futurebeef.com.au
SUMMARY:Adaptive grazing for better pasture and cattle production — Spyglass Beef Research Station\, Basalt
DESCRIPTION:If you are interested in learning more about adaptive techniques for improving pastures and animal production in a variable climate\, then don’t miss next month’s field day at Spyglass Beef Research Station\, hosted by NQ Dry Tropics and the Queensland Department of Primary Industries (DPI).Get the low down on The Virtually Fencing Free long-term trial\, which is testing out technology and land management techniques to improve drought resilience for North Queensland grazing enterprises.Spyglass is hosting the five-year research project\, which aims to establish whether the eShepherd virtual fencing system could enable rangeland graziers to effectively implement fine-scale\, adaptive grazing systems in commercial-sized beef cattle herds.The technology allows users to remotely and instantly modify digital paddock boundaries to redirect cattle without the need to muster. This makes it easier to rest overgrazed paddocks and ensure cattle use all available feed.Other presenters include Amelia Downs producer Jane Moore\, and representatives from the Northern Australia Climate Program\, TEKFARM and Climate Outreach Program.Click here to reserve your spot\, or scan the QR code on the flyer. https://www.trybooking.com/events/landing/1462919Strictly RSVP by COB on Monday 1 October.
URL:https://futurebeef.com.au/event/adaptive-grazing-for-better-pasture-and-cattle-production-spyglass-beef-research-station-basalt/
LOCATION:Western Australia
CATEGORIES:Past event
ORGANIZER;CN="NQ Dry Tropics":MAILTO:carleigh.drew@nqdrytropics.com.au
END:VEVENT
BEGIN:VEVENT
DTSTART;TZID=Australia/Brisbane:20251009T090000
DTEND;TZID=Australia/Brisbane:20251009T153000
DTSTAMP:20260423T210725
CREATED:20250923T005632Z
LAST-MODIFIED:20251127T070653Z
UID:65691-1760000400-1760023800@futurebeef.com.au
SUMMARY:Building pasture resilience — Boonah
DESCRIPTION:Healthy Land and Water along with the Department of Primary Industries invites you to: \nBuilding pasture resilience\, tackling dieback and rebuilding productivity\nDuring this session\, you will hear about and discuss: \n\nthe latest research and findings on pasture dieback\nproven strategies for pasture establishment and improvement\ntailoring grazing to support tropical species after Kikuyu loss\nunderstanding what your pasture needs.\n\nParticipants will walk away with practical\, tailored management strategies aligned with their specific pasture production goals and dieback resilience objectives—taking into account soil type\, climate\, production system\, and preferred recovery approaches (renovation\, replacement\, or recovery). \nClick here to register! \nIf you have any queries\, contact Emily Hedger at emily.h@hlw.org.au
URL:https://futurebeef.com.au/event/building-pasture-resilience-boonah/
LOCATION:Boonah Cultural Centre\, 3 High Street\, Boonah\, Queensland\, 4310\, Australia
CATEGORIES:Past event
ORGANIZER;CN="Vanessa MacDonald":MAILTO:Vanessa.MacDonald@daf.qld.gov.au
END:VEVENT
END:VCALENDAR