BEGIN:VCALENDAR
VERSION:2.0
PRODID:-//FutureBeef - ECPv6.5.1.5//NONSGML v1.0//EN
CALSCALE:GREGORIAN
METHOD:PUBLISH
X-ORIGINAL-URL:https://futurebeef.com.au
X-WR-CALDESC:Events for FutureBeef
REFRESH-INTERVAL;VALUE=DURATION:PT1H
X-Robots-Tag:noindex
X-PUBLISHED-TTL:PT1H
BEGIN:VTIMEZONE
TZID:Australia/Brisbane
BEGIN:STANDARD
TZOFFSETFROM:+1000
TZOFFSETTO:+1000
TZNAME:AEST
DTSTART:20250101T000000
END:STANDARD
END:VTIMEZONE
BEGIN:VEVENT
DTSTART;TZID=Australia/Brisbane:20251020T120000
DTEND;TZID=Australia/Brisbane:20251020T130000
DTSTAMP:20260423T210826
CREATED:20251007T103210Z
LAST-MODIFIED:20251201T000705Z
UID:65798-1760961600-1760965200@futurebeef.com.au
SUMMARY:South West Queensland seasonal outlook webinar
DESCRIPTION:Join Climate Project Officer\, John McLaughlin for an informative webinar on interpreting the latest climate outlook for effective decision making this summer in South West Queensland. \nDuring the event\, John will discuss the outlook for the summer ahead (2025/2026) and offering insights as to how to interpret the outlook to inform practical grazing decisions on your property. \nFor more information contact either Nicole Sallur\, Queensland Department of Primary Industries on 0427 603 241\, or Arun Philip\, also from Queensland Department of Primary Industries on 0400 256 427.
URL:https://futurebeef.com.au/event/south-west-queensland-seasonal-outlook-webinar/
LOCATION:Online\, Australia
CATEGORIES:Past event
ORGANIZER;CN="Nicole Sallur":MAILTO:nicole.sallur@daf.qld.gov.au
END:VEVENT
END:VCALENDAR