BEGIN:VCALENDAR
VERSION:2.0
PRODID:-//FutureBeef - ECPv6.5.1.5//NONSGML v1.0//EN
CALSCALE:GREGORIAN
METHOD:PUBLISH
X-WR-CALNAME:FutureBeef
X-ORIGINAL-URL:https://futurebeef.com.au
X-WR-CALDESC:Events for FutureBeef
REFRESH-INTERVAL;VALUE=DURATION:PT1H
X-Robots-Tag:noindex
X-PUBLISHED-TTL:PT1H
BEGIN:VTIMEZONE
TZID:Australia/Brisbane
BEGIN:STANDARD
TZOFFSETFROM:+1000
TZOFFSETTO:+1000
TZNAME:AEST
DTSTART:20250101T000000
END:STANDARD
END:VTIMEZONE
BEGIN:VEVENT
DTSTART;VALUE=DATE:20251022
DTEND;VALUE=DATE:20251024
DTSTAMP:20260423T210708
CREATED:20250904T062925Z
LAST-MODIFIED:20251201T000646Z
UID:65389-1761091200-1761263999@futurebeef.com.au
SUMMARY:Reef catchments grazing forum — Yalboroo and Proserpine
DESCRIPTION:Reef Catchments presents an impressive line-up of expert speakers at this year’s Grazing Forum\, where you’ll explore everything from paddock to sale in our region. \nFacilitated by Burnett Mary Regional Group’s Amy-Lee Provost\, the conference will feature insightful presentations from: \n\nTim Emery (DPI Beef Extension)\nJames Kent (Great Northern Brahman Sale)\nJason Mansfield (Greater Whitsundays Vet Services)\nand an exclusive presentation of cattle in the arena by Lawson Camm (Cambil Brahmans).\n\nA diverse array of stallholders will be on hand\, offering you the opportunity to connect with industry specialists and fellow graziers\, and discover innovative methods and practical ideas to elevate your grazing enterprise. \nPlus\, bring in your own soil samples on either day for free soil testing with Drought Hub. \nThe Grazing Field Day will take place in Yalboroo. Facilitated by Reef Catchments\, the event will focus on Sporobolus grass with Dr Wayne Vogler and Mandy Jeppsen\, who will take us through the nutritional requirements of tropical improved pasture\, and highlight the transition from old farmland to quality pasture. \nIf you’re planning on coming\, let us know!\nClick here to get your tickets. RSVP by Monday 18 October 2025. \nFor all inquiries\, contact Kellie Harmsworth on saf@reefcatchments.com or 0456 182 348.
URL:https://futurebeef.com.au/event/reef-catchments-grazing-forum-yalboroo-and-proserpine/
LOCATION:Western Australia
CATEGORIES:Past event
END:VEVENT
BEGIN:VEVENT
DTSTART;TZID=Australia/Brisbane:20251023T080000
DTEND;TZID=Australia/Brisbane:20251023T170000
DTSTAMP:20260423T210708
CREATED:20250714T025520Z
LAST-MODIFIED:20251201T000622Z
UID:64638-1761206400-1761238800@futurebeef.com.au
SUMMARY:Grazing fundamentals EDGE — Perth
DESCRIPTION:Foundations for grazing production\nGrazing fundamentals EDGE has been designed to give you a broad understanding of the components of the grazing production system and the core principles behind optimising grazing land productivity. It provides a solid foundation for the making of informed and responsible management decisions. \nAttending this workshop will help you learn:\n\nenvironmental regulators of pasture growth and quality\nlocal easonal pasture growth patterns and key decision dates\nhow soil properties influence pasture growth\nhow grazing affects pasture plants\, their productivity and growth\nhow to assess land condition and how this impacts on carrying capacity\nwhen and how to use pasture spelling\nhow to account for different classes of animals when assessing grazing pressure\nwhat’s involved with forage budgeting and calculating carrying capacity\n\nWho is Grazing fundamentals EDGE for?\nThe program is for red meat producers who are looking to build on their understanding of maintaining grazing land condition and long-term productivity. The program aims to take participants from understanding to action planning. It is also suitable for advisors and other service providers. \nAttending this workshop will help you to:\n\nbetter understand the connection between land condition\, pasture growth and animal production\nunderstand how climate influences pasture growth\nallow for climate variability when planning\nbetter align herd management with seasonal changes in pasture condition\nbuild a seasonal climate profile for your location.\n\nTo find out more\, or purchase your ticket\, click here.
URL:https://futurebeef.com.au/event/grazing-fundamentals-edge-perth-2/
LOCATION:Perth\, Perth\, WA\, 6001\, Australia
CATEGORIES:Past event
ORGANIZER;CN="Matt Fletcher":MAILTO:mattfletcher@westnet.com.au
END:VEVENT
END:VCALENDAR