BEGIN:VCALENDAR
VERSION:2.0
PRODID:-//FutureBeef - ECPv6.5.1.5//NONSGML v1.0//EN
CALSCALE:GREGORIAN
METHOD:PUBLISH
X-WR-CALNAME:FutureBeef
X-ORIGINAL-URL:https://futurebeef.com.au
X-WR-CALDESC:Events for FutureBeef
REFRESH-INTERVAL;VALUE=DURATION:PT1H
X-Robots-Tag:noindex
X-PUBLISHED-TTL:PT1H
BEGIN:VTIMEZONE
TZID:Australia/Brisbane
BEGIN:STANDARD
TZOFFSETFROM:+1000
TZOFFSETTO:+1000
TZNAME:AEST
DTSTART:20250101T000000
END:STANDARD
END:VTIMEZONE
BEGIN:VEVENT
DTSTART;VALUE=DATE:20251028
DTEND;VALUE=DATE:20251030
DTSTAMP:20260423T190457
CREATED:20250811T014428Z
LAST-MODIFIED:20251201T000542Z
UID:64948-1761609600-1761782399@futurebeef.com.au
SUMMARY:Carbon EDGE — Katherine
DESCRIPTION:Attending this workshop will help you learn:\n\nkey terminology and concepts relating to greenhouse gases (GHG) within the red meat industry\nin-depth information on the practices to reduce and sequester GHG within a livestock grazing business\nweighing up opportunities and risks associated with generating carbon credits and how they can be used to benefit livestock businesses\nunderstanding carbon neutrality and how it aligns to your business goals\ndeveloping a carbon action plan that incorporates practical\, achievable strategies to meet your objectives.\n\nYou will learn through group-based activities and tools\, applying new information to your own context with snapshot the support of an expert deliverer. Every workshop will include case studies and examples for participants to learn from. \nWho is the Carbon EDGE program for?\nThe program is for red meat producers who are looking to build on their understanding of carbon. The program will help participants move into a planning and action phase\, identifying practices and technologies that could be incorporated into their business to benefit their bottom line and the environment. It is also suitable for advisors and other service providers looking to enhance their understanding of the current operating environment. \nPre-workshop preparation\nThe design of the Carbon EDGE workshops recognises that everyone will be at a different starting point when it comes to carbon. However\, it is highly recommended that participants complete pre-work before attending to get the best out of the program. This includes the eLearning modules available on MLA’s Toolbox and a carbon account. Your workshop deliverer will be in touch to guide you through this process. \nHear from our presenters on what attendees will take home from the workshop:\nClick here to find out more \nIf you have any questions\, contact Hilary Connors on 0427 467 608. \nThis event has been heavily subsidised by Territory NRM.
URL:https://futurebeef.com.au/event/carbon-edge-katherine-2/
LOCATION:Katherine\, Katherine\, NT\, 0850\, Australia
CATEGORIES:Past event
ORGANIZER;CN="Rhonda Toms-Morgan":MAILTO:rhondatoms@bigpond.com
END:VEVENT
END:VCALENDAR