BEGIN:VCALENDAR
VERSION:2.0
PRODID:-//FutureBeef - ECPv6.5.1.5//NONSGML v1.0//EN
CALSCALE:GREGORIAN
METHOD:PUBLISH
X-ORIGINAL-URL:https://futurebeef.com.au
X-WR-CALDESC:Events for FutureBeef
REFRESH-INTERVAL;VALUE=DURATION:PT1H
X-Robots-Tag:noindex
X-PUBLISHED-TTL:PT1H
BEGIN:VTIMEZONE
TZID:Australia/Brisbane
BEGIN:STANDARD
TZOFFSETFROM:+1000
TZOFFSETTO:+1000
TZNAME:AEST
DTSTART:20250101T000000
END:STANDARD
END:VTIMEZONE
BEGIN:VEVENT
DTSTART;TZID=Australia/Brisbane:20251205T083000
DTEND;TZID=Australia/Brisbane:20251205T163000
DTSTAMP:20260423T170841
CREATED:20251017T002322Z
LAST-MODIFIED:20260312T043024Z
UID:65876-1764923400-1764952200@futurebeef.com.au
SUMMARY:Grazing Fundamentals EDGE- Emerald
DESCRIPTION:Join Jill Alexander (Applied Ag) for a one-day Grazing Fundamentals EDGE workshop \nWHERE: CH CoLab\, 9-13 King Street\, Emerald QLD \nWHEN: 5th December 2025 (8:30am- 4:30pm) \nCOST: $935* incl. GST per person (5% discount if booked and paid by before the 31st of October). \n(includes comprehensive set of Workshop Notes and Workbook as well as lunch\, morning/afternoon tea) \nAttending this workshop will help you better understand:\n• The soils and plants in your area\n• Connections between land condition\, pasture growth and animal production\n• The importance of ground cover and soil moisture\n• How to allow for climate variability when planning and how to forage budget\n• The different grazing systems available. \nRegister now. Places Limited. Bookings close 22 November: Contact Jill Alexander- 0427 764 897\, jillalexander@bigpond.com \nOR REGISTER HERE \nFOR MORE INFORMATION\, VIEW THE EVENT FLYER HERE
URL:https://futurebeef.com.au/event/grazing-fundamentals-edge-emerald/
LOCATION:CH CoLab\, 9-13 King street\, Emerald\, QLD\, 4735\, Australia
CATEGORIES:Past event
ORGANIZER;CN="Jill Alexander":MAILTO:jillalexander@bigpond.com
END:VEVENT
END:VCALENDAR