BEGIN:VCALENDAR
VERSION:2.0
PRODID:-//FutureBeef - ECPv6.5.1.5//NONSGML v1.0//EN
CALSCALE:GREGORIAN
METHOD:PUBLISH
X-ORIGINAL-URL:https://futurebeef.com.au
X-WR-CALDESC:Events for FutureBeef
REFRESH-INTERVAL;VALUE=DURATION:PT1H
X-Robots-Tag:noindex
X-PUBLISHED-TTL:PT1H
BEGIN:VTIMEZONE
TZID:Australia/Brisbane
BEGIN:STANDARD
TZOFFSETFROM:+1000
TZOFFSETTO:+1000
TZNAME:AEST
DTSTART:20260101T000000
END:STANDARD
END:VTIMEZONE
BEGIN:VEVENT
DTSTART;TZID=Australia/Brisbane:20260224T083000
DTEND;TZID=Australia/Brisbane:20260226T173000
DTSTAMP:20260423T130846
CREATED:20260106T231346Z
LAST-MODIFIED:20260312T042710Z
UID:69563-1771921800-1772127000@futurebeef.com.au
SUMMARY:Grazing land management EDGE - Monto
DESCRIPTION:Grazing land management (GLM) EDGE is a three-day workshop to give you a thorough understanding of the grazing land environment in which you operate – it will provide you with knowledge to strategically manage your grazing business so you can optimise your land condition and productivity in the long-term. \n$800 + GST per person (usually $1\,950pp) \nContact Alex Thomson\, DPI for more information:\nM: 0429 228 952 or E: alexandra.thomson@dpi.qld.gov.au \n \nTo see the full event flyer click here.
URL:https://futurebeef.com.au/event/grazing-land-management-edge-monto/
LOCATION:Monto RSL\, 7 Rutherford Street\, Monto\, Qld\, 4630\, Australia
CATEGORIES:Past event
END:VEVENT
END:VCALENDAR