BEGIN:VCALENDAR
VERSION:2.0
PRODID:-//FutureBeef - ECPv6.5.1.5//NONSGML v1.0//EN
CALSCALE:GREGORIAN
METHOD:PUBLISH
X-ORIGINAL-URL:https://futurebeef.com.au
X-WR-CALDESC:Events for FutureBeef
REFRESH-INTERVAL;VALUE=DURATION:PT1H
X-Robots-Tag:noindex
X-PUBLISHED-TTL:PT1H
BEGIN:VTIMEZONE
TZID:Australia/Brisbane
BEGIN:STANDARD
TZOFFSETFROM:+1000
TZOFFSETTO:+1000
TZNAME:AEST
DTSTART:20260101T000000
END:STANDARD
END:VTIMEZONE
BEGIN:VEVENT
DTSTART;TZID=Australia/Brisbane:20260309T093000
DTEND;TZID=Australia/Brisbane:20260309T160000
DTSTAMP:20260423T130959
CREATED:20260227T033941Z
LAST-MODIFIED:20260312T042418Z
UID:70178-1773048600-1773072000@futurebeef.com.au
SUMMARY:RCS Keep in Touch Day - Rockhampton
DESCRIPTION:Join RCS and hosts Pat and Mel Clancy at their property ‘Seven Hills’. Hear about their stud breeding enterprise and how they’ve refined their grazing and paddock management to better suit seasonal conditions and increase herd performance. \nFacilitating the day is RCS’s Managing Director\, David McLean\, who will provide an overview of RCS’s grazing principles and how these can be applied on farm. The day will begin with a shed-discussion followed by a paddock walk where you’ll get to see the principles in action. \nDiscussion Topics\n\nStud breeding on a small grazing operation – How cooperator agreements can achieve the scale you may be missing\nFences that pay their way – Live electric fence designing and financial analysis using RCS FarmEye data\nAfter the rain: Turning a good season into a strong 12-month plan – 12-Month planning after a wet start to 2026 in CQ\n\nReady to register?\n \nPlease bring your own chair\, lunch\, water and hat. \nFor more information\, please contact RCS on 1300 356 004 or email info@rcsaustralia.com.au \n \n 
URL:https://futurebeef.com.au/event/rcs-keep-in-touch-day-rockhampton/
LOCATION:‘Seven Hills’\, 785 Old Coach Road\, Marmor QLD 4702\, 785 Old Coach Road\, Marmor\, QLD\, 4702\, Australia
CATEGORIES:Past event
ORGANIZER;CN="RCS - Resource Consulting Services":MAILTO:info@rcsaustralia.com.au
END:VEVENT
END:VCALENDAR