BEGIN:VCALENDAR
VERSION:2.0
PRODID:-//FutureBeef - ECPv6.5.1.5//NONSGML v1.0//EN
CALSCALE:GREGORIAN
METHOD:PUBLISH
X-WR-CALNAME:FutureBeef
X-ORIGINAL-URL:https://futurebeef.com.au
X-WR-CALDESC:Events for FutureBeef
REFRESH-INTERVAL;VALUE=DURATION:PT1H
X-Robots-Tag:noindex
X-PUBLISHED-TTL:PT1H
BEGIN:VTIMEZONE
TZID:Australia/Brisbane
BEGIN:STANDARD
TZOFFSETFROM:+1000
TZOFFSETTO:+1000
TZNAME:AEST
DTSTART:20260101T000000
END:STANDARD
END:VTIMEZONE
BEGIN:VEVENT
DTSTART;VALUE=DATE:20260423
DTEND;VALUE=DATE:20260424
DTSTAMP:20260423T055417
CREATED:20260414T034955Z
LAST-MODIFIED:20260414T034955Z
UID:71040-1776902400-1776988799@futurebeef.com.au
SUMMARY:Ag-Tech and Animal health protocols workshop - Ingham
DESCRIPTION:AgForce has put together a producer day that aims to give some insight into current innovations in Ag-Tech and animal health protocols \n\n\n\n\nAgForce is putting on a producer day to show off some of the current Ag-Tech and animal health gear. We’ve lined up a solid mix of practical tech and health protocols that can actually help boost your bottom line. \nWe’re keeping things practical\, focusing on tools that can actually help make your business more profitable. We’ve got a great line-up of experts to walk us through everything from new safety systems to the latest in virtual fencing: – we will hear from: \nJohno Mackay from Job Safe Pro will demonstrate his new on farm safety system. \nJustin Hauff – Elders will demonstrate crush side technology\, the latest tech in chemical and fertiliser applications to help navigate a changing landscape. \nJosie Pickering from Telstra will navigate all things telecommunications and answer any technical questions. \nEwan Crook of Vence will show us the latest in virtual fencing. \nJosh Schwartz – Zoetis will deliver a comprehensive overview of drug protocols\, yard hygiene and HGP applications. \nMo Pederson from AgForce training\, who runs his own small stud\, Koolyn Brahmans. \nProducer Guests – Lyle Gelenwright and John Board \nIt’ll be a great day out with a few surprises in the mix\, and we’ll wrap it all up with a BBQ dinner and drinks. \nIf you can not make the full day\, we are happy for you to come over for a BBQ in the afternoon. \nHope to see you there! \nEnquiries: \nKate Malouf\, NEQ Regional Manager: m: 0418 485 501 e: maloufk@agforceqld.org.au \nDon’t forget to register.
URL:https://futurebeef.com.au/event/ag-tech-and-animal-health-protocols-workshop-ingham/
LOCATION:Abergow\, Abergowrie Road\, Abergowrie\, QLD\, 4850
CATEGORIES:Animal production
END:VEVENT
BEGIN:VEVENT
DTSTART;TZID=Australia/Brisbane:20260423T120000
DTEND;TZID=Australia/Brisbane:20260423T130000
DTSTAMP:20260423T055417
CREATED:20260417T031943Z
LAST-MODIFIED:20260417T055125Z
UID:71136-1776945600-1776949200@futurebeef.com.au
SUMMARY:MLA webinar - Producer demonstration site update: Preventing bull preputial breakdown
DESCRIPTION:Join MLA for a 45-minute webinar as part of the PDS Updates webinar series\, showcasing findings from the Producer Demonstration Site (PDS) ‘Preventing bull preputial breakdown by vaccination’.  \nThis session will outline the demonstration approach\, key observations from participating properties and practical considerations for incorporating vaccination into bull management programs.\n \nThe session will cover:  \n\nwhy preputial breakdown matters for bull health and joining outcomes \nhow the PDS was run across participating properties \nwhat the PDS demonstrated and the observations collected \nconsiderations for vaccination as part of bull management \nQ&A with the project team.\n\nPresenters: \n\nDr Enoch Bergman\, Swan Veterinary Services – PDS Facilitator\nSimon Fowler\, Chilwell Farms – Lead Producer\n\nWho should attend: Producers\, advisors and service providers interested in practical strategies to support bull health and performance.  \nDetails:\nDate: Thursday 23rd April 2026\nTime: 12pm – 12:45pm (AEST)\nLocation: Online – link provided on registration \n \nMore information:\nFor the PDS project\, contact:\nEnoch Bergman\, Swan Veterinary Services\, via email enoch@swansvet.com or phone 04727 716 907  \nSarah Brown\, ASHEEP & BEEF\, via email eo@asheepbeef.org.au or phone 0409 335 194 \nFor registration details\, contact:\nAlana McEwan\, Meat & Livestock Australia\, via email pds@mla.com.au or phone 0417 541 000.
URL:https://futurebeef.com.au/event/mla-webinar-producer-demonstration-site-update-preventing-bull-preputial-breakdown/
LOCATION:Online webinar\, Australia
CATEGORIES:Animal production
ORGANIZER;CN="MLA":MAILTO:events@mla.com.au
END:VEVENT
BEGIN:VEVENT
DTSTART;TZID=Australia/Brisbane:20260427T083000
DTEND;TZID=Australia/Brisbane:20260429T170000
DTSTAMP:20260423T055417
CREATED:20260202T210111Z
LAST-MODIFIED:20260326T001008Z
UID:69827-1777278600-1777482000@futurebeef.com.au
SUMMARY:Nutrition EDGE — Katherine
DESCRIPTION:Join us at Nutrition EDGE Katherine\, where you will learn: \n\nNutritional requirements of your cattle and sheep\nPasture intake\, quality and diet quality\nWhat supplements to feed and when\nWhat tools to use to make better management decisions for a range of seasonal conditions.\n\nDate: 27-29 April \nVenue: Katherine\, NT (plus paddock exercises) \nTime: 8.30am to 5.00pm all days \nPresenter: Désirée Jackson\, Désirée Jackson Livestock Management \nCost: $1\,950 + GST / 1st person from one business; $1\,650 + GST / 2nd and 3rd person from same business (primary producers only). Cost includes comprehensive set of workshop notes\, workbook and lunch\, morning and afternoon tea each day. \nWho to contact for registration: Désirée Jackson\, M:  0409 062 692 or E: desireejackson@djlm.com.au \n 
URL:https://futurebeef.com.au/event/nutrition-edge-katherine/
LOCATION:Katherine\, Katherine\, NT\, 0850\, Australia
CATEGORIES:Animal production
ORGANIZER;CN="D%C3%A9sir%C3%A9e Jackson":MAILTO:desireejackson@djlm.com.au
END:VEVENT
BEGIN:VEVENT
DTSTART;TZID=Australia/Brisbane:20260428T090000
DTEND;TZID=Australia/Brisbane:20260428T140000
DTSTAMP:20260423T055417
CREATED:20260216T233709Z
LAST-MODIFIED:20260219T012652Z
UID:69955-1777366800-1777384800@futurebeef.com.au
SUMMARY:Setting Your Weaners Up For Success - Moura
DESCRIPTION:Are you maximising profit from your weaners?\nJoin the Department of Primary Industries team members and discuss all things Weaner Management at our 3 FREE workshops. \nTopics will include:\n• Weaner nutrition\n• Disease and parasite management\n• Maximising production from your breeder herd\n• The economics behind early weaning\n• Current DPI projects and funding opportunities \nMorning tea and lunch will be provided – Please advise of any dietary requirements\nRSVP close 20th April using the following TryBooking link.
URL:https://futurebeef.com.au/event/setting-your-weaners-up-for-success-moura/
LOCATION:Moura\, Moura\, Qld\, 4718\, Australia
CATEGORIES:Animal production
ORGANIZER;CN="Grayson Jones":MAILTO:grayson.jones@dpi.qld.gov.au
END:VEVENT
BEGIN:VEVENT
DTSTART;TZID=Australia/Brisbane:20260429T090000
DTEND;TZID=Australia/Brisbane:20260429T140000
DTSTAMP:20260423T055417
CREATED:20260219T012734Z
LAST-MODIFIED:20260219T014407Z
UID:69976-1777453200-1777471200@futurebeef.com.au
SUMMARY:Setting Your Weaners Up For Success - Springsure
DESCRIPTION:Are you maximising profit from your weaners?\nJoin the Department of Primary Industries team members and discuss all things Weaner Management at our 3 FREE workshops. \nTopics will include:\n• Weaner nutrition\n• Disease and parasite management\n• Maximising production from your breeder herd\n• The economics behind early weaning\n• Current DPI projects and funding opportunities \nMorning tea and lunch will be provided – Please advise of any dietary requirements\nRSVP close 20th April using the following TryBooking link.
URL:https://futurebeef.com.au/event/setting-your-weaners-up-for-success-springsure/
LOCATION:Springsure\, Springsure\, Qld\, 4722\, Australia
CATEGORIES:Animal production
ORGANIZER;CN="Grayson Jones":MAILTO:grayson.jones@dpi.qld.gov.au
END:VEVENT
BEGIN:VEVENT
DTSTART;TZID=Australia/Brisbane:20260430T090000
DTEND;TZID=Australia/Brisbane:20260430T140000
DTSTAMP:20260423T055417
CREATED:20260219T013555Z
LAST-MODIFIED:20260219T014234Z
UID:69979-1777539600-1777557600@futurebeef.com.au
SUMMARY:Setting Your Weaners Up For Success - Clermont
DESCRIPTION:Are you maximising profit from your weaners?\nJoin the Department of Primary Industries team members and discuss all things Weaner Management at our 3 FREE workshops. \nTopics will include:\n• Weaner nutrition\n• Disease and parasite management\n• Maximising production from your breeder herd\n• The economics behind early weaning\n• Current DPI projects and funding opportunities \nMorning tea and lunch will be provided – Please advise of any dietary requirements\nRSVP close 20th April using the following TryBooking link.
URL:https://futurebeef.com.au/event/setting-your-weaners-up-for-success-clermont/
LOCATION:Clermont\, Clermont\, Qld\, 4721\, Australia
CATEGORIES:Animal production
ORGANIZER;CN="Grayson Jones":MAILTO:grayson.jones@dpi.qld.gov.au
END:VEVENT
BEGIN:VEVENT
DTSTART;TZID=Australia/Brisbane:20260430T120000
DTEND;TZID=Australia/Brisbane:20260430T130000
DTSTAMP:20260423T055417
CREATED:20260417T032019Z
LAST-MODIFIED:20260417T035906Z
UID:71144-1777550400-1777554000@futurebeef.com.au
SUMMARY:MLA webinar - Producer demonstration site update: Optimising weaning age
DESCRIPTION:Join MLA for a 45-minute webinar as part of the PDS Updates webinar series\, showcasing findings from the Producer Demonstration Site (PDS) ‘Optimising age of weaning in cattle’.  \nThis session will outline the demonstration approach\, key observations from participating properties and practical considerations when determining optimal weaning age.\n \nThe session will cover:  \n\nmeasurable outcomes from calves weaned at different ages \neffects on cow body condition\, fertility and rebreeding the influence of season and feedbase constraints on weaning decisions\nmanagement considerations\, risks and operational impacts\npractical recommendations supported by the project’s data.\n\nPresenters: \n\nDr Enoch Bergman\, Swan Veterinary Services – PDS Facilitator\nNick Ruddenklau\, Epasco Farms – Lead Producer\n\nWho should attend:  \n\nCattle producers \nMixed–enterprise producers \nFarm managers\, overseers and advisers.\n\nDetails:\nDate: Thursday 30th April 2026\nTime: 12pm – 12:45pm (AEST)\nLocation: Online – link provided on registration \n \nMore information:\nFor the PDS project\, contact:\nSarah Brown\, ASHEEP & BEEF\, via email eo@asheepbeef.org.au or phone 0409 335 194 \nFor registration details\, contact:\nAlana McEwan\, Meat & Livestock Australia\, via email pds@mla.com.au or phone 0417 541 000.
URL:https://futurebeef.com.au/event/mla-webinar-producer-demonstration-site-update-optimising-weaning-age/
LOCATION:Online webinar\, Australia
CATEGORIES:Animal production
ORGANIZER;CN="MLA":MAILTO:events@mla.com.au
END:VEVENT
BEGIN:VEVENT
DTSTART;TZID=Australia/Brisbane:20260511T083000
DTEND;TZID=Australia/Brisbane:20260513T170000
DTSTAMP:20260423T055417
CREATED:20260212T033125Z
LAST-MODIFIED:20260420T010333Z
UID:69911-1778488200-1778691600@futurebeef.com.au
SUMMARY:Nutrition EDGE — Dalby
DESCRIPTION:Join us at Nutrition EDGE Dalby\, where you will learn: \n\nNutritional requirements of your cattle and sheep\nPasture intake\, quality and diet quality\nWhat supplements to feed and when\nWhat tools to use to make better management decisions for a range of seasonal conditions.\n\nDate: 11-13th May 2026 \nVenue: Dalby\, QLD (plus paddock exercises) \nTime: 8.30am to 5.00pm all days \nPresenter: Désirée Jackson\, Désirée Jackson Livestock Management \nCost: $1\,950* + GST / 1st person from one business; $1\,650* + GST / 2nd and 3rd person from same business (primary producers only). Cost includes comprehensive set of workshop notes\, workbook and lunch\, morning and afternoon tea each day. *Register and pay for the workshop by 27 March to receive the early bird discount of $250. \nWho to contact for registration: Désirée Jackson\, M:  0409 062 692 or E: desireejackson@djlm.com.au \nClick here to see the full event flyer. \n 
URL:https://futurebeef.com.au/event/nutrition-edge-dalby/
LOCATION:Dalby\, Dalby\, Queensland\, 4405\, Australia
CATEGORIES:Animal production
ORGANIZER;CN="D%C3%A9sir%C3%A9e Jackson":MAILTO:desireejackson@djlm.com.au
END:VEVENT
BEGIN:VEVENT
DTSTART;TZID=Australia/Brisbane:20260512T081500
DTEND;TZID=Australia/Brisbane:20260514T123000
DTSTAMP:20260423T055417
CREATED:20260227T034710Z
LAST-MODIFIED:20260420T010243Z
UID:70190-1778573700-1778761800@futurebeef.com.au
SUMMARY:RCS Grazing clinic 2026 — Emerald
DESCRIPTION:Grazing Clinic Short Course | 2.5 Days\nReady to take your grazing operation to the next level? The RCS Grazing Clinics offer a unique opportunity to learn from industry experts and gain the practical skills you need to maximise productivity and profitability. \nWhy Choose an RCS Grazing Clinic?\n\nExpert Guidance: Learn from industry-leading experts who have a deep understanding of grazing principles and practical experience.\nTailored Approach: RCS clinics are designed to cater to the specific needs of grass farmers\, providing relevant and actionable insights.\nProven Results: Implement proven strategies that have helped countless farmers increase yields\, improve pasture health and enhance profitability.\nHolistic Approach: Gain a comprehensive understanding of grazing management\, from soil health and pasture nutrition to livestock management and financial planning.\nCommunity and Support: Connect with like-minded producers and benefit from a supportive network of peers.\n\nWhat You’ll Learn:\n\nMaster the Fundamentals: Gain a solid foundation in grazing principles\, including pasture ecology\, nutrient cycling and animal behaviour.\nOptimise Pasture Health: Discover techniques to improve soil health\, promote plant diversity and enhance pasture resilience.\nMaximise Livestock Performance: Learn how to optimise grazing rotations\, adjust stocking rates and provide optimal nutrition for your livestock.\nHarness the Power of Data: Utilise grazing management tools and data analysis to make informed decisions and track progress.\nBuild a Sustainable Future: Explore new agriculture practices and learn how to create a sustainable and profitable grazing operation.\n\n \nInvestment\nEarly Bird: $1\,490 per person (available until 13th April 2026) \nStandard: $1\,890 per person \nSecure your spot now! \n 
URL:https://futurebeef.com.au/event/rcs-grazing-clinic-2026-emerald/
LOCATION:Mayfair Ridge Tavern\, 7-11 Mayfair Drive\, Emerald\, Qld\, 4720\, Australia
CATEGORIES:Animal production,Land and pastures
ORGANIZER;CN="RCS - Resource Consulting Services":MAILTO:info@rcsaustralia.com.au
END:VEVENT
BEGIN:VEVENT
DTSTART;TZID=Australia/Brisbane:20260526T083000
DTEND;TZID=Australia/Brisbane:20260528T170000
DTSTAMP:20260423T055417
CREATED:20260212T033730Z
LAST-MODIFIED:20260420T005052Z
UID:69917-1779784200-1779987600@futurebeef.com.au
SUMMARY:Nutrition EDGE — Charters Towers
DESCRIPTION:Join us at Nutrition EDGE Charters Towers\, where you will learn: \n\nNutritional requirements of your cattle and sheep\nPasture intake\, quality and diet quality\nWhat supplements to feed and when\nWhat tools to use to make better management decisions for a range of seasonal conditions.\n\nDate: 26-28th May 2026 \nVenue: Charters Towers\, QLD (plus paddock exercises) \nTime: 8.30am to 5.00pm all days \nPresenter: Désirée Jackson\, Désirée Jackson Livestock Management \nCost: $1\,950* + GST / 1st person from one business; $1\,650* + GST / 2nd and 3rd person from same business (primary producers only). Cost includes comprehensive set of workshop notes\, workbook and lunch\, morning and afternoon tea each day. *Register and pay for the workshop by 10th April to receive the early bird discount of $250. \nWho to contact for registration: Désirée Jackson\, M:  0409 062 692 or E: desireejackson@djlm.com.au \nClick here to see the full event flyer. \n 
URL:https://futurebeef.com.au/event/nutrition-edge-charters-towers/
LOCATION:Charters Towers\, Charters Towers\, Australia
CATEGORIES:Animal production
ORGANIZER;CN="D%C3%A9sir%C3%A9e Jackson":MAILTO:desireejackson@djlm.com.au
END:VEVENT
BEGIN:VEVENT
DTSTART;TZID=Australia/Brisbane:20260608T080000
DTEND;TZID=Australia/Brisbane:20260609T170000
DTSTAMP:20260423T055417
CREATED:20260303T031536Z
LAST-MODIFIED:20260420T014136Z
UID:70253-1780905600-1781024400@futurebeef.com.au
SUMMARY:Breeding EDGE — Mackay
DESCRIPTION:Looking to get more out of your breeder operation? MLA’s Breeding EDGE workshop has all your questions covered plus more!\nBreeding EDGE is a 3-day workshop designed to help improve and refine your beef breeder herd management plans. Hear from industry experts on genetics\, reproduction and technologies to help achieve your desired production targets. \nLocation: Mackay \nWhen: 8-9 June 2026 + Day 3 date TBA \n\n$1\,950* + GST / 1st person from one business.\n$1\,650* + GST / 2nd and 3rd person from same business (primary producers only).\n\n*Participants may be eligible for a training subsidy depending on which catchment they have a property located in. \nCost includes a comprehensive set of workshop notes\, workbook\, electronic files\, other materials and catering. \n\n\nPresenters: \n\nFelicity Hamlyn-Hill\, Beef Enterprise Advisory Services\nRoxanne Morgan and Tim Emery\, Department of Primary Industries\nBULLCHECK accredited vet Dr Ben Brightman\, Valley Veterinary Surgery\n\nTopics covered\nDuring the Breeding EDGE workshop at Mackay\, you will learn about: \n\nidentifying current herd performance – what measures matter most\nreproduction and reproduction loss\nmanaging breeders and herd management plans\nbull fertility and management\ngenetic improvement of your herd (including breeding objectives) and selection tools\nselection and selection criteria for traits important to you\nbreeds and breeding systems.\n\nBy attending the workshop\, you will be able to: \n\nidentify where your current breeder herd management program can be improved to reduce reproductive loss\nmeasure reproductive performance more accurately\nidentify strategies to improve bull selection\, retention\, management and performance\ndevelop\, or refine\, a practical and achievable management plan for your breeding herd that will lead to higher productivity.\n\n\nRegistration\nTo book your seat\, contact: Felicity Hamlyn-Hill\, M:  0428 113 732 or E: felicityhamlyn-hill@bigpond.com \n\n \n  \n\nMore information\nBreeding EDGE – FutureBeef  → \nBreeding EDGE | Meat & Livestock Australia →
URL:https://futurebeef.com.au/event/breeding-edge-mackay-2026/
LOCATION:Mackay\, Mackay\, Qld\, 4740\, Australia
CATEGORIES:Animal production
ORGANIZER;CN="Felicity Hamlyn-Hill":MAILTO:felicityhamlyn-hill@bigpond.com
END:VEVENT
BEGIN:VEVENT
DTSTART;TZID=Australia/Brisbane:20260616T080000
DTEND;TZID=Australia/Brisbane:20260618T170000
DTSTAMP:20260423T055417
CREATED:20260409T063442Z
LAST-MODIFIED:20260420T004225Z
UID:70984-1781596800-1781802000@futurebeef.com.au
SUMMARY:Better beef business forum — Kununurra
DESCRIPTION:Save the date!\nKimberley Pilbara Cattlemen’s Association presents Better beef business forum\, Kununurra\, 16-18 June. \nTopics up for discussion: \n\nindustry updates\ncollecting better data for better decisions\ninnovation addressing rising costs\nworkforce opportunities\nanimal health and welfare updates\ncotton seed supplementation\nh0ow to access and handle cotton seed\nfocus on fodder\nemerging opportunities\nKimberley Cotton Gin tour.
URL:https://futurebeef.com.au/event/better-beef-business-forum-kununurra/
LOCATION:Kununurra
CATEGORIES:Animal production,Biosecurity,People and business
END:VEVENT
BEGIN:VEVENT
DTSTART;TZID=Australia/Brisbane:20260616T090000
DTEND;TZID=Australia/Brisbane:20260616T143000
DTSTAMP:20260423T055417
CREATED:20260127T013631Z
LAST-MODIFIED:20260303T235211Z
UID:69689-1781600400-1781620200@futurebeef.com.au
SUMMARY:How to use faecal NIRS testing — Theodore
DESCRIPTION:This workshop has a cost of $75 per business for laboratory testing that will be matched by the Department of Primary Industries for testing of 2 paddocks on your property. \nUnderstanding diet quality and how to plan for the dry season ahead\nTopics will include: \n\nthe quality of your pasture\ncattle nutritional requirements\nsetting your herd up for success\ncost effective supplementation.\n\nSpots are limited\nMorning tea and lunch will be provided – Please advise of any dietary requirements. \nPlease RSVP by 1st of May. \n \nFor more information\, contact Grayson Jones\, Beef Extension Officer on 0460 015 071.
URL:https://futurebeef.com.au/event/how-to-use-faecal-nirs-testing-theodore/
LOCATION:Theodore\, Theodore\, Qld\, 4719\, Australia
CATEGORIES:Animal production
ORGANIZER;CN="Grayson Jones":MAILTO:grayson.jones@dpi.qld.gov.au
END:VEVENT
BEGIN:VEVENT
DTSTART;TZID=Australia/Brisbane:20260617T090000
DTEND;TZID=Australia/Brisbane:20260617T143000
DTSTAMP:20260423T055417
CREATED:20260127T013705Z
LAST-MODIFIED:20260303T234840Z
UID:69692-1781686800-1781706600@futurebeef.com.au
SUMMARY:How to use faecal NIRS testing — Emerald
DESCRIPTION:This workshop has a cost of $75 per business for laboratory testing that will be matched by the Department of Primary Industries for testing of 2 paddocks on your property. \nUnderstanding diet quality and how to plan for the dry season ahead\nTopics will include: \n\nthe quality of your pasture\ncattle nutritional requirements\nsetting your herd up for success\ncost effective supplementation.\n\nSpots are limited\nMorning tea and lunch will be provided – Please advise of any dietary requirements. \nPlease RSVP by 1st of May. \n \nFor more information\, contact Grayson Jones\, Beef Extension Officer on 0460 015 071.
URL:https://futurebeef.com.au/event/how-to-use-faecal-nirs-testing-emerald/
LOCATION:Emerald\, Emerald\, Qld\, 4720\, Australia
CATEGORIES:Animal production
ORGANIZER;CN="Grayson Jones":MAILTO:grayson.jones@dpi.qld.gov.au
END:VEVENT
BEGIN:VEVENT
DTSTART;TZID=Australia/Brisbane:20260618T090000
DTEND;TZID=Australia/Brisbane:20260618T143000
DTSTAMP:20260423T055417
CREATED:20260127T013833Z
LAST-MODIFIED:20260303T234709Z
UID:69695-1781773200-1781793000@futurebeef.com.au
SUMMARY:How to use faecal NIRS testing — Rockhampton
DESCRIPTION:This workshop has a cost of $75 per business for laboratory testing that will be matched by the Department of Primary Industries for testing of 2 paddocks on your property. \nUnderstanding diet quality and how to plan for the dry season ahead\nTopics will include: \n\nthe quality of your pasture\ncattle nutritional requirements\nsetting your herd up for success\ncost effective supplementation.\n\nSpots are limited\nMorning tea and lunch will be provided – Please advise of any dietary requirements. \nPlease RSVP by 1st of May. \n \nFor more information\, contact Grayson Jones\, Beef Extension Officer on 0460 015 071.
URL:https://futurebeef.com.au/event/how-to-use-faecal-nirs-testing-rockhampton/
LOCATION:Rockhampton\, Rockhampton\, Qld\, 4700\, Australia
CATEGORIES:Animal production
ORGANIZER;CN="Grayson Jones":MAILTO:grayson.jones@dpi.qld.gov.au
END:VEVENT
BEGIN:VEVENT
DTSTART;TZID=Australia/Brisbane:20260819T080000
DTEND;TZID=Australia/Brisbane:20260820T170000
DTSTAMP:20260423T055417
CREATED:20260122T021016Z
LAST-MODIFIED:20260122T021053Z
UID:69631-1787126400-1787245200@futurebeef.com.au
SUMMARY:Kidman Springs field day
DESCRIPTION:Save the date! More information to come.
URL:https://futurebeef.com.au/event/kidman-springs-field-day/
LOCATION:Kidman Springs Research Station\, 13774 Buchanan Highway\, Victoria River\, NT\, 0852\, Australia
CATEGORIES:Animal production,Land and pastures,People and business,Technology
ORGANIZER;CN="Stacey Holzapfel":MAILTO:Stacey.holzapfel@nt.gov.au
END:VEVENT
BEGIN:VEVENT
DTSTART;TZID=Australia/Brisbane:20260908T081500
DTEND;TZID=Australia/Brisbane:20260910T123000
DTSTAMP:20260423T055417
CREATED:20260319T101035Z
LAST-MODIFIED:20260420T004656Z
UID:70660-1788855300-1789043400@futurebeef.com.au
SUMMARY:RCS Grazing Clinic — Goondiwindi
DESCRIPTION:Grazing Clinic Short Course | 2.5 Days \nReady to take your grazing operation to the next level? The RCS Grazing Clinics offer a unique opportunity to learn from industry experts and gain the practical skills you need to maximise productivity and profitability. \nWhy Choose an RCS Grazing Clinic?\n\nExpert Guidance: Learn from industry-leading experts who have a deep understanding of grazing principles and practical experience.\nTailored Approach: RCS clinics are designed to cater to the specific needs of grass farmers\, providing relevant and actionable insights.\nProven Results: Implement proven strategies that have helped countless farmers increase yields\, improve pasture health and enhance profitability.\nHolistic Approach: Gain a comprehensive understanding of grazing management\, from soil health and pasture nutrition to livestock management and financial planning.\nCommunity and Support: Connect with like-minded producers and benefit from a supportive network of peers.\n\nWhat You’ll Learn:\n\nMaster the Fundamentals: Gain a solid foundation in grazing principles\, including pasture ecology\, nutrient cycling and animal behaviour.\nOptimise Pasture Health: Discover techniques to improve soil health\, promote plant diversity and enhance pasture resilience.\nMaximise Livestock Performance: Learn how to optimise grazing rotations\, adjust stocking rates and provide optimal nutrition for your livestock.\nHarness the Power of Data: Utilise grazing management tools and data analysis to make informed decisions and track progress.\nBuild a Sustainable Future: Explore new agriculture practices and learn how to create a sustainable and profitable grazing operation.\n\n \nInvestment\nEarly Bird: $1\,490 per person (available until 10th August 2026) \nStandard: $1\,890 per person \nSecure your spot now! \n 
URL:https://futurebeef.com.au/event/rcs-grazing-clinic-goondiwindi-2026/
LOCATION:O’Shea’s Royal Hotel\, 48 Marshall Street\, Goondiwindi\, QLD\, 4390
CATEGORIES:Animal production,Land and pastures
ORGANIZER;CN="RCS - Resource Consulting Services":MAILTO:info@rcsaustralia.com.au
END:VEVENT
BEGIN:VEVENT
DTSTART;TZID=Australia/Brisbane:20260922T080000
DTEND;TZID=Australia/Brisbane:20260924T170000
DTSTAMP:20260423T055417
CREATED:20260302T231202Z
LAST-MODIFIED:20260420T004530Z
UID:70242-1790064000-1790269200@futurebeef.com.au
SUMMARY:BeefEx 2026 — Gold Coast
DESCRIPTION:BeefEx is Australia’s flagship grain fed beef industry event\, bringing together lot feeders\, industry leaders\, researchers and supply chain partners for two unmissable days of learning\, insight and connection. Think big ideas\, practical takeaways\, industry-leading speakers and plenty of opportunities to connect with peers from across the grain fed sector. \nPut it in your calendar now and keep an eye on the Australian Lot Feeders’ Association’s BeefEx website for more information.
URL:https://futurebeef.com.au/event/beefex-2026/
LOCATION:Gold Coast Convention and Exhibition Centre\, Cnr Gold Coast Highway and TE Peters Drive\, Broadbeach\, Qld\, 4218\, Australia
CATEGORIES:Animal production
END:VEVENT
BEGIN:VEVENT
DTSTART;VALUE=DATE:20270526
DTEND;VALUE=DATE:20270527
DTSTAMP:20260423T055417
CREATED:20260312T001936Z
LAST-MODIFIED:20260312T001936Z
UID:70520-1811289600-1811375999@futurebeef.com.au
SUMMARY:Brian Pastures Field Day — Gayndah
DESCRIPTION:Save the date!\nBrian Pastures Field Day will once again be held on 26 May 2027. The day will be full of research project updates\, examples of practical applications\, demonstrations and of course\, what would a field day be without a farm tour. \n  \nCheck in here for more information closer to the day!
URL:https://futurebeef.com.au/event/brian-pastures-field-day-gayndah/
LOCATION:Brian Pastures Research Station\, 819 Brian Pastures Road\, Gayndah\, Qld\, 4625\, Australia
CATEGORIES:Animal production,Land and pastures,People and business
ORGANIZER;CN="Kerry Goodwin":MAILTO:kerry.goodwin@daf.qld.gov.au
END:VEVENT
END:VCALENDAR