BEGIN:VCALENDAR
VERSION:2.0
PRODID:-//FutureBeef - ECPv6.5.1.5//NONSGML v1.0//EN
CALSCALE:GREGORIAN
METHOD:PUBLISH
X-WR-CALNAME:FutureBeef
X-ORIGINAL-URL:https://futurebeef.com.au
X-WR-CALDESC:Events for FutureBeef
REFRESH-INTERVAL;VALUE=DURATION:PT1H
X-Robots-Tag:noindex
X-PUBLISHED-TTL:PT1H
BEGIN:VTIMEZONE
TZID:Australia/Brisbane
BEGIN:STANDARD
TZOFFSETFROM:+1000
TZOFFSETTO:+1000
TZNAME:AEST
DTSTART:20260101T000000
END:STANDARD
END:VTIMEZONE
BEGIN:VEVENT
DTSTART;TZID=Australia/Brisbane:20260423T083000
DTEND;TZID=Australia/Brisbane:20260423T123000
DTSTAMP:20260423T195946
CREATED:20260417T083852Z
LAST-MODIFIED:20260417T084715Z
UID:71186-1776933000-1776947400@futurebeef.com.au
SUMMARY:Community Impact Program Workshop - Charleville
DESCRIPTION:Community organisations across South West Queensland are invited to attend local workshops to learn more about the resources available to support drought preparedness and a changing climate. \nThese sessions will explore: \n\nThe Community Impact Program\, delivered by the Foundation for Rural & Regional Renewal (FRRR)\nHow resources can support the continued development of local preparedness\nInsights into the Regional Drought Resilience Implementation Plan being developed by Regional Development Australia Darling Downs South West\n\nDetails\nTime: 8:30am – 12:30pm\nDates and locations: \n\nMonday 20th April\, Roma\nTuesday 21st April\, St George\nWednesday 22nd April\, Cunnamulla\nThursday 23rd April\, Charleville\nFriday 24th April\, Quilpie\n\nMore information \nContact FRRR on info@frrr.org.au or phone 03 5430 2399
URL:https://futurebeef.com.au/event/community-impact-program-workshop-charleville/
LOCATION:Charleville\, Charleville\, Queensland\, 4470\, Australia
CATEGORIES:Climate and natural disasters,Community
ORGANIZER;CN="Foundation for Rural & Regional Renewal":MAILTO:info@frrr.org.au
END:VEVENT
END:VCALENDAR