BEGIN:VCALENDAR
VERSION:2.0
PRODID:-//FutureBeef - ECPv6.5.1.5//NONSGML v1.0//EN
CALSCALE:GREGORIAN
METHOD:PUBLISH
X-WR-CALNAME:FutureBeef
X-ORIGINAL-URL:https://futurebeef.com.au
X-WR-CALDESC:Events for FutureBeef
REFRESH-INTERVAL;VALUE=DURATION:PT1H
X-Robots-Tag:noindex
X-PUBLISHED-TTL:PT1H
BEGIN:VTIMEZONE
TZID:Australia/Brisbane
BEGIN:STANDARD
TZOFFSETFROM:+1000
TZOFFSETTO:+1000
TZNAME:AEST
DTSTART:20240101T000000
END:STANDARD
END:VTIMEZONE
BEGIN:VEVENT
DTSTART;TZID=Australia/Brisbane:20240409T120000
DTEND;TZID=Australia/Brisbane:20240409T130000
DTSTAMP:20260421T175637
CREATED:20240327T044608Z
LAST-MODIFIED:20240812T054323Z
UID:58693-1712664000-1712667600@futurebeef.com.au
SUMMARY:Beyond the forecast (SW QLD)- Webinar
DESCRIPTION:Join us for a follow-up webinar to review the past season and provide insights into the season ahead. Don’t miss this opportunity for the climate outlook information for South West Queensland. \nJoin John McLaughlin online as he dives into: \nA spring & summer review \nA look at the seasons ahead \nDiscuss the forecasts and what they could mean for graziers in the region \nWhen: Tuesday 9th April- 12pm \nREGISTER HERE \n 
URL:https://futurebeef.com.au/event/beyond-the-forecast-sw-qld-webinar/
LOCATION:Online webinar\, Australia
CATEGORIES:Past event
END:VEVENT
END:VCALENDAR