BEGIN:VCALENDAR
VERSION:2.0
PRODID:-//FutureBeef - ECPv6.5.1.5//NONSGML v1.0//EN
CALSCALE:GREGORIAN
METHOD:PUBLISH
X-ORIGINAL-URL:https://futurebeef.com.au
X-WR-CALDESC:Events for FutureBeef
REFRESH-INTERVAL;VALUE=DURATION:PT1H
X-Robots-Tag:noindex
X-PUBLISHED-TTL:PT1H
BEGIN:VTIMEZONE
TZID:Australia/Brisbane
BEGIN:STANDARD
TZOFFSETFROM:+1000
TZOFFSETTO:+1000
TZNAME:AEST
DTSTART:20240101T000000
END:STANDARD
END:VTIMEZONE
BEGIN:VEVENT
DTSTART;TZID=Australia/Brisbane:20240410T090000
DTEND;TZID=Australia/Brisbane:20240410T130000
DTSTAMP:20260423T185050
CREATED:20240326T005507Z
LAST-MODIFIED:20240812T054328Z
UID:58637-1712739600-1712754000@futurebeef.com.au
SUMMARY:Building resilient soils\, pastures\, landscapes field day - Oaky Creek
DESCRIPTION:Come along to see and hear from landholders and regenerative farmer and educator\, Shane Joyce on strategies and practices being implemented to demonstrate improved resilience. \nTopics that will be covered on the day include: \n\nProperty management planning\nLandscape re-hydration\nPlanned rotational grazing and spelling\nMulti-species cover crops\n\nFree tea and lunch provided. \nRegister with Bruce Lord by Friday 12 April: call 0427 013 284 or email bruce.l@hlw.org.au \nDownload the Building resilient soils\, pastures\, landscapes field day – Oaky Creek (PDF\, 982KB).
URL:https://futurebeef.com.au/event/building-resilient-soils-pastures-landscapes-field-day-oaky-creek/
LOCATION:359 Oaky Creek Road\, Oaky Creek\, Qld\, 4285\, Australia
CATEGORIES:Past event
END:VEVENT
BEGIN:VEVENT
DTSTART;TZID=Australia/Brisbane:20240410T090000
DTEND;TZID=Australia/Brisbane:20240410T150000
DTSTAMP:20260423T185050
CREATED:20240314T021815Z
LAST-MODIFIED:20240812T054338Z
UID:58347-1712739600-1712761200@futurebeef.com.au
SUMMARY:ParaBoss workshop: Cattle parasite management - pilot 3
DESCRIPTION:Understanding the pressing need for targeted on-farm parasite management solutions\, the ParaBoss extension team has custom-designed one-day workshops aimed at empowering producers by improving on-farm productivity and enhancing overall skills and confidence in internal parasite management. \nFollowing the successful parasite management in cattle workshops in 2023 and early 2024\, this new workshop will aim to further enhance attendees’ knowledge based on the extensive feedback provided in pilots 1 & 2. \nAttendance is free of charge\, and all workshop resources and catering will be supplied on the day. Places are limited to ensure excellent interaction between presenters and attendees. \nWe look forward to you joining us at the pilot. Please register here: https://bit.ly/3IG5cVn \nThe workshops will facilitate: \n\nAn improvement in overall skills and confidence of cattle producers in their understanding of internal parasite management\nImprove access by producers to key sources of information\nLess production losses/mortality from parasites in herds\nIncreased effectiveness of drenches and parasiticides\nDecreased impacts of chemical resistance\n\nRSVP is essential – and the workshop numbers will be capped. Attendees will be registered on a first-in\, best-dressed basis. \nPlease do not hesitate to contact Megan Rogers\, ParaBoss Extension on 0427 459 891\, should you have any questions. \nDownload the ParaBoss cattle management workshop flyer (PDF\, 459KB).
URL:https://futurebeef.com.au/event/paraboss-workshop-cattle-parasite-management-pilot-3/
LOCATION:Clermont Commercial Hotel\, 80 Capella Street\, Clermont\, Qld\, 4721\, Australia
CATEGORIES:Past event
END:VEVENT
END:VCALENDAR