BEGIN:VCALENDAR
VERSION:2.0
PRODID:-//FutureBeef - ECPv6.5.1.5//NONSGML v1.0//EN
CALSCALE:GREGORIAN
METHOD:PUBLISH
X-WR-CALNAME:FutureBeef
X-ORIGINAL-URL:https://futurebeef.com.au
X-WR-CALDESC:Events for FutureBeef
REFRESH-INTERVAL;VALUE=DURATION:PT1H
X-Robots-Tag:noindex
X-PUBLISHED-TTL:PT1H
BEGIN:VTIMEZONE
TZID:Australia/Brisbane
BEGIN:STANDARD
TZOFFSETFROM:+1000
TZOFFSETTO:+1000
TZNAME:AEST
DTSTART:20240101T000000
END:STANDARD
END:VTIMEZONE
BEGIN:VEVENT
DTSTART;TZID=Australia/Brisbane:20240521T090000
DTEND;TZID=Australia/Brisbane:20240521T120000
DTSTAMP:20260420T003812
CREATED:20240510T025038Z
LAST-MODIFIED:20240812T054058Z
UID:59064-1716282000-1716292800@futurebeef.com.au
SUMMARY:Selecting pasture dieback tolerant grasses field day
DESCRIPTION:Hear from Department of Agriculture and Fisheries leading researchers and see trial results: \n\nGrass variety tolerance to pasture dieback\n30 grass varieties\, 18 species\nPasture mealybug identification\n\nThis trial site is a must see for any land owner that is affected by pasture dieback. \nRegistration by Monday 20 May is essential for biosecurity and site access purposes. \nThe field day will be held on private property. The address will be provided after registration. Parking space is limited. Attendees will walk up to 1km on uneven\nterrain. No toilet facilities are available. Please bring a hat\, covered shoes and water. This is a strictly non smoking or vaping site. \nRegister online at https://www.trybooking.com/CRSKQ \nFor more information contact ted.callanan@daf.qld.gov.au or 0439 627 497. \nThis event is provided by the Queensland Pasture Resilience Program\, funded by the Queensland Government\, the Australian Government and Meat & Livestock Australia.
URL:https://futurebeef.com.au/event/pasture-dieback-tolerant-grasses-field-day/
LOCATION:Boonah District\, Qld\, 4310\, Australia
CATEGORIES:Past event
ATTACH;FMTTYPE=image/png:https://futurebeef.com.au/wp-content/uploads/2024/05/Boonah-pasture-dieback-trial-site-T-Callanan.png
END:VEVENT
END:VCALENDAR