BEGIN:VCALENDAR
VERSION:2.0
PRODID:-//FutureBeef - ECPv6.5.1.5//NONSGML v1.0//EN
CALSCALE:GREGORIAN
METHOD:PUBLISH
X-ORIGINAL-URL:https://futurebeef.com.au
X-WR-CALDESC:Events for FutureBeef
REFRESH-INTERVAL;VALUE=DURATION:PT1H
X-Robots-Tag:noindex
X-PUBLISHED-TTL:PT1H
BEGIN:VTIMEZONE
TZID:Australia/Brisbane
BEGIN:STANDARD
TZOFFSETFROM:+1000
TZOFFSETTO:+1000
TZNAME:AEST
DTSTART:20240101T000000
END:STANDARD
END:VTIMEZONE
BEGIN:VEVENT
DTSTART;TZID=Australia/Brisbane:20240523T110000
DTEND;TZID=Australia/Brisbane:20240523T193000
DTSTAMP:20260423T185143
CREATED:20240426T061540Z
LAST-MODIFIED:20240812T053847Z
UID:58963-1716462000-1716492600@futurebeef.com.au
SUMMARY:BeefUp Forum – Pilbara – Day 1
DESCRIPTION:Discover the latest in research\, trials\, tools and technology for the Australian beef industry through MLA’s BeefUp forums. \nBeefUp forums provide a chance for producers\, advisors\, researchers and other experts to come together to share information and ideas to support the continued growth of beef businesses throughout WA\, NT and Queensland. \nBeefUp forums are an MLA initiative delivered by Associated Advertising & Promotions with the support of Regional Beef Research Committees and industry partners who provide regional insights for each program. \nBeefUp forums cover: \n\nglobal research underway across the areas of livestock management\, nutrition\, health\, feedbase\, land management\, environment and supply chain\nmarket insights and future market opportunities\ntrials and application of new technologies in your region\nadoption programs\, tools and resources for everyone.\n\nThe forums include: \n\npresentations\, panel sessions\, Q&A and demonstrations\ndiscussion with expert speakers\, with expert speakers\, including producers\, advisors and researchers\nindustry resources\, plus a comprehensive program to take home\ntime for a yarn over lunch and dinner.\n\nFor more information and to register visit the Meat & Livestock Australia website.
URL:https://futurebeef.com.au/event/beefup-forum-pilbara/
LOCATION:Newman Shire Hall\, Corner Kalgan and Newman Drives\, Newman\, WA\, 6753\, Australia
CATEGORIES:Past event
END:VEVENT
END:VCALENDAR