BEGIN:VCALENDAR
VERSION:2.0
PRODID:-//FutureBeef - ECPv6.5.1.5//NONSGML v1.0//EN
CALSCALE:GREGORIAN
METHOD:PUBLISH
X-WR-CALNAME:FutureBeef
X-ORIGINAL-URL:https://futurebeef.com.au
X-WR-CALDESC:Events for FutureBeef
REFRESH-INTERVAL;VALUE=DURATION:PT1H
X-Robots-Tag:noindex
X-PUBLISHED-TTL:PT1H
BEGIN:VTIMEZONE
TZID:Australia/Brisbane
BEGIN:STANDARD
TZOFFSETFROM:+1000
TZOFFSETTO:+1000
TZNAME:AEST
DTSTART:20240101T000000
END:STANDARD
END:VTIMEZONE
BEGIN:VEVENT
DTSTART;TZID=Australia/Brisbane:20240529T070000
DTEND;TZID=Australia/Brisbane:20240529T090000
DTSTAMP:20260421T195823
CREATED:20240513T052906Z
LAST-MODIFIED:20240812T053737Z
UID:59082-1716966000-1716973200@futurebeef.com.au
SUMMARY:Much Rain Mate? Breakfast Event - Goondiwindi
DESCRIPTION:What is the go with this weather?! \nCome and have a cuppa\, breakfast and get informed on Climate Mate by Vicki Mayne\, a beef producer and Climate Mate officer with Northern Australia Climate Program. Vicki understands how important it is to marry seasonal forecast knowledge with economical and practical application to achieve productivity and sustainability. \nWe are trying something new with a breakfast and a bite size presentation that you can fit in before work. We know that sometimes there is too much to take in during a full day event and often people have trouble taking a full day off to attend our events. This time you won’t have to miss out! \nDon’t forget to register to secure your spot!
URL:https://futurebeef.com.au/event/much-rain-mate-breakfast-event-goondiwindi/
LOCATION:Goondiwindi Cultural Centre\, Goondiwindi\, Queensland\, 4390\, Australia
CATEGORIES:Past event
END:VEVENT
BEGIN:VEVENT
DTSTART;TZID=Australia/Brisbane:20240529T080000
DTEND;TZID=Australia/Brisbane:20240529T130000
DTSTAMP:20260421T195823
CREATED:20240508T065505Z
LAST-MODIFIED:20240812T053731Z
UID:59036-1716969600-1716987600@futurebeef.com.au
SUMMARY:Blackall - West QLD RBRC
DESCRIPTION:The Western Queensland Regional Beef Research Committee invite you to join their meeting to hear the latest industry research! \nPlease RSVP by Thursday 23rd of May to assist with catering requirements for lunch. \nRegister for this event here
URL:https://futurebeef.com.au/event/blackall-west-qld-rbrc/
LOCATION:The Living Arts Centre\, Cnr Rose and Hawthorne Streets\, Blackall\, Qld\, 4472\, Australia
CATEGORIES:Past event
ORGANIZER;CN="Patricia Nolan":MAILTO:patricia.nolan@daf.qld.gov.au
END:VEVENT
BEGIN:VEVENT
DTSTART;TZID=Australia/Brisbane:20240529T080000
DTEND;TZID=Australia/Brisbane:20240529T170000
DTSTAMP:20260421T195823
CREATED:20230929T012204Z
LAST-MODIFIED:20240812T053723Z
UID:56688-1716969600-1717002000@futurebeef.com.au
SUMMARY:Brian Pastures Field Day- Gayndah
DESCRIPTION:The Department of Agriculture and Fisheries and AgForce welcomes you to the Brian Pastures Research Facility Field Day on May 29th 2024. \nSee firsthand the variety of research currently being undertaken on pasture management\, AgTech\, carbon and cattle genetics. Panel sessions with a variety of speakers\, trade stalls\, site tour and finishing with a BBQ to recap the day with new and old colleagues. \nWe are excited to have you all attend our field day\, however we ask that you comply with the general biosecurity obligation under the Biosecurity Act 2014. Please take all reasonable steps to ensure your vehicle is free of plant and soil material prior to coming to Brian Pastures Research Facility. When attending the tour\, please park in designated areas and follow the directions provided when traveling between locations. \n  \n 
URL:https://futurebeef.com.au/event/brian-pastures-field-day/
LOCATION:Brian Pastures Research Station\, 819 Brian Pastures Road\, Gayndah\, Qld\, 4625\, Australia
CATEGORIES:Past event
END:VEVENT
BEGIN:VEVENT
DTSTART;TZID=Australia/Brisbane:20240529T090000
DTEND;TZID=Australia/Brisbane:20240529T150000
DTSTAMP:20260421T195823
CREATED:20240419T040714Z
LAST-MODIFIED:20240812T053714Z
UID:58912-1716973200-1716994800@futurebeef.com.au
SUMMARY:Grazing Fundamentals EDGE- Begonia
DESCRIPTION:Grazing fundamentals EDGE- Begonia is a workshop designed to give you a broad understanding of the components of the grazing production system and the core\, scientifically-backed principles behind optimising grazing land productivity. \nAttending this workshop will help you to:\n• Understand what conditions drive pasture growth & how you can use strategic grazing management to improve pasture productivity\n• Evaluate the productive potential of a property & identify opportunities for improvement\n•Better align herd management with seasonal changes in pasture condition\n•Build a seasonal climate profile for your location \nMore information can be found here in the event flyer \nDate: 29 May (Day 1) & 19 June (Day 2 TBC) 2024\nTime: 9.00am to 3.00pm (both days) \nVenue: Begonia Golf & Sports Club\, 4233 Begonia Road (75km north of St George)\nPresenters: Jill Alexander\, AppliedAg and Gina Mace\, ConnectAg \nCost: Subsidised rate of $140pp* inc GST per person (usually $935pp). * Eligible landholders within the SQ Landscapes priority zone (Maranoa region and Upper Balonne Shire) can access this subsidised rate. THIS EVENT IS SUPPORTED BY SQ LANDSCAPES WITH FUNDING FROM THE QUEENSLAND GOVERNMENT’S NATURAL RESOURCE RECOVERY PROGRAM \nCost includes workshop\, a comprehensive set of Workshop Notes\, Workbook\, catering + a 12-month subscription to Cibo Labs PastureKey (usually valued at $2\,000) https://www.cibolabs.com.au/products/pasturekey/ \nTo register: click HERE or contact Jill Alexander M: 0427 764 897\, E: jillalexander@bigpond.com. Registrations close 22nd May.
URL:https://futurebeef.com.au/event/grazing-fundamentals-edge-begonia/
LOCATION:Begonia Sports Club\, 4233 Begonia Road\, Begonia\, Qld\, 4487\, Australia
CATEGORIES:Past event
ORGANIZER;CN="Jill Alexander":MAILTO:jillalexander@bigpond.com
END:VEVENT
END:VCALENDAR